BEGIN:VCALENDAR
VERSION:2.0
PRODID:-//wp-events-plugin.com//7.2.3.1//EN
TZID:Europe/Paris
X-WR-TIMEZONE:Europe/Paris
BEGIN:VEVENT
UID:10929@ridin-family.com
DTSTART;TZID=Europe/Paris:20240420T191500
DTEND;TZID=Europe/Paris:20240420T230000
DTSTAMP:20240418T184230Z
URL:https://www.ridin-family.com/evenements/3eme-nocturne-du-lys-20-avril-
 2024/
SUMMARY:3ème Nocturne du Lys 20 avril 2024
DESCRIPTION:Une idée de sortie VTT !\nPlus d'info sur :\nhttps://www.hello
 asso.com/associations/saint-lys-veloclub/evenements/nocturne-du-lys\n\n\n\
 n
ATTACH;FMTTYPE=image/jpeg:https://www.ridin-family.com/wp-content/uploads/
 2024/04/image-rando-du-Lys.png
CATEGORIES:Sorties club
END:VEVENT
BEGIN:VTIMEZONE
TZID:Europe/Paris
X-LIC-LOCATION:Europe/Paris
BEGIN:DAYLIGHT
DTSTART:20240331T030000
TZOFFSETFROM:+0100
TZOFFSETTO:+0200
TZNAME:CEST
END:DAYLIGHT
END:VTIMEZONE
END:VCALENDAR