BEGIN:VCALENDAR
VERSION:2.0
PRODID:-//wp-events-plugin.com//7.2.3.1//EN
TZID:Europe/Paris
X-WR-TIMEZONE:Europe/Paris
BEGIN:VEVENT
UID:10951@ridin-family.com
DTSTART;TZID=Europe/Paris:20240608T143000
DTEND;TZID=Europe/Paris:20240608T153000
DTSTAMP:20240603T080454Z
URL:https://www.ridin-family.com/evenements/balade-aux-tambourettes-2/
SUMMARY:Balade aux Tambourettes
DESCRIPTION:Petite balade ce WE dans le parc des Tambourettes (pour les New
  Rider).\n\nEnviron 4 ou 5 kms\, principalement à l'ombre\, avec observat
 ion de moutons et ânes.\n\nPossibilité de prolonger la balade par un gou
 ter/jeux sur l'aire de jeu des Tambourettes.
ATTACH;FMTTYPE=image/jpeg:https://www.ridin-family.com/wp-content/uploads/
 2024/06/Chem.-des-nes-31820-Pibrac-Arrondissement-de-Toulouse-GoogleMaps-G
 oogle-Chrome.jpg
CATEGORIES:Sortie Famille,Sorties club
LOCATION:Tambourettes\, Les tambourettes\, PIBRAC\, 31820\, France
GEO:43.622041;1.286368
X-APPLE-STRUCTURED-LOCATION;VALUE=URI;X-ADDRESS=Les tambourettes\, PIBRAC\,
  31820\, France;X-APPLE-RADIUS=100;X-TITLE=Tambourettes:geo:43.622041,1.28
 6368
END:VEVENT
BEGIN:VTIMEZONE
TZID:Europe/Paris
X-LIC-LOCATION:Europe/Paris
BEGIN:DAYLIGHT
DTSTART:20240331T030000
TZOFFSETFROM:+0100
TZOFFSETTO:+0200
TZNAME:CEST
END:DAYLIGHT
END:VTIMEZONE
END:VCALENDAR