BEGIN:VCALENDAR
VERSION:2.0
PRODID:-//wp-events-plugin.com//7.2.3.1//EN
TZID:Europe/Paris
X-WR-TIMEZONE:Europe/Paris
BEGIN:VEVENT
UID:8339@ridin-family.com
DTSTART;TZID=Europe/Paris:20221218T103000
DTEND;TZID=Europe/Paris:20221218T103000
DTSTAMP:20221217T173235Z
URL:https://www.ridin-family.com/evenements/boucle-lacroix-ramonville-espa
 nes-lacroix/
SUMMARY:Boucle Lacroix - Ramonville - Espanes - Lacroix
DESCRIPTION:Bonjour.\n\nHicham et moi allons sortir dimanche pour une balad
 e sur les coteaux : 36km 760 m D+\ndépart à 10h30 du parking de la Gleys
 ette avec une halte à mi-chemin pour déjeuner (prévoir de quoi !)\n\nCo
 nditions : Soleil et températures aux alentours de 10 degrés\nJ'ai class
 é la sortie en "Sportive" à cause de plusieurs tronçons boueux qui devr
 aient rendre le parcours et plus technique et plus physique.\n\n&nbsp\;\n\
 nLa boucle peut_être interrompue à mi-chemin pour ceux qui souhaitent re
 ntrer chez eux pour déjeuner.\n\n&nbsp\;\n\nYou are welcome !\n\n&nbsp\;
ATTACH;FMTTYPE=image/jpeg:https://www.ridin-family.com/wp-content/uploads/
 2022/12/Screenshot_20221217-1830302.jpg
CATEGORIES:Sortie Sportive
LOCATION:chapelle de la Gleyzette\, chapelle de la gleysette\, lacroix falg
 arde\, 31120\, France
GEO:43.497858;1.434385
X-APPLE-STRUCTURED-LOCATION;VALUE=URI;X-ADDRESS=chapelle de la gleysette\, 
 lacroix falgarde\, 31120\, France;X-APPLE-RADIUS=100;X-TITLE=chapelle de l
 a Gleyzette:geo:43.497858,1.434385
END:VEVENT
BEGIN:VTIMEZONE
TZID:Europe/Paris
X-LIC-LOCATION:Europe/Paris
BEGIN:STANDARD
DTSTART:20221030T020000
TZOFFSETFROM:+0200
TZOFFSETTO:+0100
TZNAME:CET
END:STANDARD
END:VTIMEZONE
END:VCALENDAR