BEGIN:VCALENDAR
VERSION:2.0
PRODID:-//wp-events-plugin.com//7.2.3.1//EN
TZID:Europe/Paris
X-WR-TIMEZONE:Europe/Paris
BEGIN:VEVENT
UID:10894@ridin-family.com
DTSTART;TZID=Europe/Paris:20240303T143000
DTEND;TZID=Europe/Paris:20240303T183000
DTSTAMP:20240221T160043Z
URL:https://www.ridin-family.com/evenements/carnaval-de-colomiers-le-3-mar
 s-2024/
SUMMARY:Carnaval de Colomiers le 3 mars 2024
DESCRIPTION:&nbsp\;\n\nhttps://www.ville-colomiers.fr/a-la-une/carnaval-202
 4-4673.html\n\n&nbsp\;\n\n&nbsp\;\n\n&nbsp\;\n\n&nbsp\;
ATTACH;FMTTYPE=image/jpeg:https://www.ridin-family.com/wp-content/uploads/
 2024/02/Affiche-carnaval-colomiers-24.jpg
CATEGORIES:Sorties club
END:VEVENT
BEGIN:VTIMEZONE
TZID:Europe/Paris
X-LIC-LOCATION:Europe/Paris
BEGIN:STANDARD
DTSTART:20231029T020000
TZOFFSETFROM:+0200
TZOFFSETTO:+0100
TZNAME:CET
END:STANDARD
END:VTIMEZONE
END:VCALENDAR