BEGIN:VCALENDAR
VERSION:2.0
PRODID:-//wp-events-plugin.com//7.2.3.1//EN
TZID:Europe/Paris
X-WR-TIMEZONE:Europe/Paris
BEGIN:VEVENT
UID:3741@ridin-family.com
DTSTART;TZID=Europe/Paris:20211218T173000
DTEND;TZID=Europe/Paris:20211218T190000
DTSTAMP:20210822T232721Z
URL:https://www.ridin-family.com/evenements/cours-academie-vtt-enduro-lacr
 oix-falgarde-samedi-2021-2022-2021-12-18/
SUMMARY:Cours Académie VTT Enduro Lacroix-Falgarde Samedi 2021/2022
DESCRIPTION:Cours Académie VTT Enduro : \n\n\n\n\nPublic : Ce cours est de
 stiné aux jeunes riders expérimentés de 12 à 17 ans sélectionnés par
  le moniteur.\n\n\nObjectif : Compétition !\n\n\n\n\n\nÉquipement néces
 saire:\n\n 	Vélo en bon état avec embouts de guidons (de type XC/Enduro)
 \n 	Casque obligatoire\n 	Tenue adaptée à la pratique et aux conditions 
 météo : 3 couches\, maillot à manches longues (orties\, ronces\, blessu
 res possibles)\, gants longs\, cache-cou\, short interdit\, protège genou
 x\, lunettes.\n 	Bouteilles d’eau / gourde / CamelBack\n 	Sac à dos con
 tenant une petite trousse à outils\, une chambre à air\, des pattes de d
 érailleur\, un démonte pneu\, un goûter\, un coupe-vent\n 	Téléphone 
 portable obligatoire.\n\n&nbsp\;\n\nEncadrant : Un moniteur diplômé prof
 essionnel.\n\n&nbsp\;\nCovid-19 :\nIl sera demandé aux participants d’
 être vigilants quant à leur état de santé.\nAucune inscription en cour
 s ne sera acceptée si un participant est porteur des symptômes suivants
  : température de + de 37\,8°\, toux\, perte de goût ou d’odorat\, d
 ouleurs de gorge\, douleurs musculaires\, douleurs abdominales\, diarrhée
 s\, courbatures inhabituelles\, fatigue inhabituelle\, perte d’envie de 
 manger ou boire\, manque de souffle en parlant ou à faible l’effort ou 
 contact avec une personne atteinte du Covid19.\nToute personne symptomatiq
 ue sera interdite d’accès aux cours. En cas de symptôme suspectant un 
 Covid-19 pendant un cours\, le participant sera mis à l’écart.\n\nResp
 ect des gestes barrières.
ATTACH;FMTTYPE=image/jpeg:https://www.ridin-family.com/wp-content/uploads/
 2020/06/Photo-2609-scaled.jpg
CATEGORIES:Academy,École de Lacroix-Falgarde,Écoles
LOCATION:Lacroix-Falgarde Bike Park\, Les Ramiers\, espace sportif\, Lacroi
 x-Falgarde\, 31120\, France
GEO:43.499398;1.40982
X-APPLE-STRUCTURED-LOCATION;VALUE=URI;X-ADDRESS=Les Ramiers\, espace sporti
 f\, Lacroix-Falgarde\, 31120\, France;X-APPLE-RADIUS=100;X-TITLE=Lacroix-F
 algarde Bike Park:geo:43.499398,1.40982
END:VEVENT
BEGIN:VTIMEZONE
TZID:Europe/Paris
X-LIC-LOCATION:Europe/Paris
BEGIN:STANDARD
DTSTART:20211031T020000
TZOFFSETFROM:+0200
TZOFFSETTO:+0100
TZNAME:CET
END:STANDARD
END:VTIMEZONE
END:VCALENDAR