BEGIN:VCALENDAR
VERSION:2.0
PRODID:-//wp-events-plugin.com//7.2.3.1//EN
TZID:Europe/Paris
X-WR-TIMEZONE:Europe/Paris
BEGIN:VEVENT
UID:2687@ridin-family.com
DTSTART;TZID=Europe/Paris:20210922T153000
DTEND;TZID=Europe/Paris:20210922T170000
DTSTAMP:20210906T132101Z
URL:https://www.ridin-family.com/evenements/cours-biker1-lacroix-falgarde-
 mercredi-2021-2022-2021-09-22/
SUMMARY:Cours Biker1 Lacroix-Falgarde Mercredi 2021/2022
DESCRIPTION:Cours Biker1 : \n\n\n\n\nPublic : Ce cours est destiné aux jeu
 nes Vttistes autonomes de 8 à 11 ans.Il permet de perfectionner la maniab
 ilité en VTT .\n\nObjectif : Loisir et perfectionnement en VTT Cross Coun
 try (XC).\n\n\n\n\n\nProgramme type :\n\n 	Mise en place et échauffements
 \n 	Exercices théoriques autour d'un thème ou Jeux de groupes\n 	Randonn
 ée de mise en pratique des compétences ou Bikepark\n\nPrérequis :\n\n 	
 Savoir monter un trottoir\n 	Etre autonome sur le VTT\n\n\nÉquipement né
 cessaire:\n\n 	Vélo en bon état avec embouts de guidons (au moins un VTT
  de plus de 10 vitesses)\n 	Casque obligatoire\n 	Tenue adaptée à la pra
 tique et aux conditions météo : 3 couches\, maillot à manches longues (
 orties\, ronces\, blessures possibles)\, gants longs\, cache-cou\, short i
 nterdit\, protège genoux\, lunettes.\n 	Bouteilles d’eau / gourde / Cam
 elBack\n 	Sac à dos contenant une petite trousse à outils\, une chambre 
 à air\, des pattes de dérailleur\, un démonte pneu\, un goûter\, un co
 upe-vent.\n\nEncadrant : Un moniteur diplômé professionnel.\n\nCovid-19 
 :\nIl sera demandé aux participants d’être vigilants quant à leur ét
 at de santé.\nAucune inscription en cours ne sera acceptée si un partici
 pant est porteur des symptômes suivants : température de + de 37\,8°\,
  toux\, perte de goût ou d’odorat\, douleurs de gorge\, douleurs muscul
 aires\, douleurs abdominales\, diarrhées\, courbatures inhabituelles\, fa
 tigue inhabituelle\, perte d’envie de manger ou boire\, manque de souffl
 e en parlant ou à faible l’effort ou contact avec une personne atteinte
  du Covid19.\nToute personne symptomatique sera interdite d’accès aux c
 ours. En cas de symptôme suspectant un Covid-19 pendant un cours\, le par
 ticipant sera mis à l’écart.\n\nRespect des gestes barrières.
ATTACH;FMTTYPE=image/jpeg:https://www.ridin-family.com/wp-content/uploads/
 2020/07/Photo-2161-scaled.jpg
CATEGORIES:École de Lacroix-Falgarde,Écoles
LOCATION:Lacroix-Falgarde Bike Park\, Les Ramiers\, espace sportif\, Lacroi
 x-Falgarde\, 31120\, France
GEO:43.499398;1.40982
X-APPLE-STRUCTURED-LOCATION;VALUE=URI;X-ADDRESS=Les Ramiers\, espace sporti
 f\, Lacroix-Falgarde\, 31120\, France;X-APPLE-RADIUS=100;X-TITLE=Lacroix-F
 algarde Bike Park:geo:43.499398,1.40982
END:VEVENT
BEGIN:VTIMEZONE
TZID:Europe/Paris
X-LIC-LOCATION:Europe/Paris
BEGIN:DAYLIGHT
DTSTART:20210328T030000
TZOFFSETFROM:+0100
TZOFFSETTO:+0200
TZNAME:CEST
END:DAYLIGHT
END:VTIMEZONE
END:VCALENDAR