BEGIN:VCALENDAR
VERSION:2.0
PRODID:-//wp-events-plugin.com//7.2.3.1//EN
TZID:Europe/Paris
X-WR-TIMEZONE:Europe/Paris
BEGIN:VEVENT
UID:3716@ridin-family.com
DTSTART;TZID=Europe/Paris:20220423T160000
DTEND;TZID=Europe/Paris:20220423T173000
DTSTAMP:20220108T013946Z
URL:https://www.ridin-family.com/evenements/cours-biker3-2-lacroix-falgard
 e-samedi-2021-2022-2022-04-23/
SUMMARY:Cours FreeRider Lacroix-Falgarde Samedi 2021/2022
DESCRIPTION:Cours FreeRider : \n\n\n\n\nPublic : Ce cours de perfectionneme
 nt est destiné aux Vttistes et Enduristes de 12 à 17 ans ayant déjà le
  niveau Biker 3.\n\n\n\n\n\nProgramme type :\n\n 	Mise en place et échauf
 fements\n 	Exercices théoriques autour d'un thème ou Jeux de groupes\n 	
 Randonnée de mise en pratique des compétences ou Bikepark\n\nPrérequis 
 :\n\n 	Savoir faire un "bunny up"\n 	Etre autonome sur le VTT\n\n\nÉquipe
 ment nécessaire:\n\n 	Vélo en bon état avec embouts de guidons (de type
  XC/Enduro)\n 	Casque obligatoire\n 	Tenue adaptée à la pratique et aux 
 conditions météo : 3 couches\, maillot à manches longues (orties\, ronc
 es\, blessures possibles)\, gants longs\, cache-cou\, short interdit\, pro
 tège genoux\, lunettes.\n 	Bouteilles d’eau / gourde / CamelBack\n 	Sac
  à dos contenant une petite trousse à outils\, une chambre à air\, des 
 pattes de dérailleur\, un démonte pneu\, un goûter\, un coupe-vent\n 	T
 éléphone portable obligatoire.\n\nEncadrant : Un moniteur diplômé prof
 essionnel.\n\n&nbsp\;\nCovid-19 :\nIl sera demandé aux participants d’
 être vigilants quant à leur état de santé.\nAucune inscription en cour
 s ne sera acceptée si un participant est porteur des symptômes suivants
  : température de + de 37\,8°\, toux\, perte de goût ou d’odorat\, d
 ouleurs de gorge\, douleurs musculaires\, douleurs abdominales\, diarrhée
 s\, courbatures inhabituelles\, fatigue inhabituelle\, perte d’envie de 
 manger ou boire\, manque de souffle en parlant ou à faible l’effort ou 
 contact avec une personne atteinte du Covid19.\nToute personne symptomatiq
 ue sera interdite d’accès aux cours. En cas de symptôme suspectant un 
 Covid-19 pendant un cours\, le participant sera mis à l’écart.\n\nResp
 ect des gestes barrières.
ATTACH;FMTTYPE=image/jpeg:https://www.ridin-family.com/wp-content/uploads/
 2020/06/Photo-2171-scaled.jpg
CATEGORIES:École de Lacroix-Falgarde,Écoles
LOCATION:Lacroix-Falgarde Bike Park\, Les Ramiers\, espace sportif\, Lacroi
 x-Falgarde\, 31120\, France
GEO:43.499398;1.40982
X-APPLE-STRUCTURED-LOCATION;VALUE=URI;X-ADDRESS=Les Ramiers\, espace sporti
 f\, Lacroix-Falgarde\, 31120\, France;X-APPLE-RADIUS=100;X-TITLE=Lacroix-F
 algarde Bike Park:geo:43.499398,1.40982
END:VEVENT
BEGIN:VTIMEZONE
TZID:Europe/Paris
X-LIC-LOCATION:Europe/Paris
BEGIN:DAYLIGHT
DTSTART:20220327T030000
TZOFFSETFROM:+0100
TZOFFSETTO:+0200
TZNAME:CEST
END:DAYLIGHT
END:VTIMEZONE
END:VCALENDAR