BEGIN:VCALENDAR
VERSION:2.0
PRODID:-//wp-events-plugin.com//7.2.3.1//EN
TZID:Europe/Paris
X-WR-TIMEZONE:Europe/Paris
BEGIN:VEVENT
UID:4625@ridin-family.com
DTSTART;TZID=Europe/Paris:20220216T183000
DTEND;TZID=Europe/Paris:20220216T200000
DTSTAMP:20210906T132320Z
URL:https://www.ridin-family.com/evenements/cours-biker3-castanet-mercredi
 -2021-2022-2022-02-16/
SUMMARY:Cours Biker3 Castanet Mercredi 2021/2022
DESCRIPTION:Cours Biker3 : \n\n\n\n\nPublic : Ce cours de perfectionnement 
 est destiné aux Vttistes et Enduristes de 12 à 17 ans ayant déjà le ni
 veau Biker 2.\n\n\n\n\n\nProgramme type :\n\n 	Mise en place et échauffem
 ents\n 	Exercices théoriques autour d'un thème ou Jeux de groupes\n 	Ran
 donnée de mise en pratique des compétences ou Bikepark\n\nPrérequis :\n
 \n 	Savoir faire un "bunny up"\n 	Etre autonome sur le VTT\n\n\nÉquipemen
 t nécessaire:\n\n 	Vélo en bon état avec embouts de guidons (de type XC
 /Enduro)\n 	Casque obligatoire\n 	Tenue adaptée à la pratique et aux con
 ditions météo : 3 couches\, maillot à manches longues (orties\, ronces\
 , blessures possibles)\, gants longs\, cache-cou\, short interdit\, protè
 ge genoux\, lunettes.\n 	Bouteilles d’eau / gourde / CamelBack\n 	Sac à
  dos contenant une petite trousse à outils\, une chambre à air\, des pat
 tes de dérailleur\, un démonte pneu\, un goûter\, un coupe-vent\n 	Tél
 éphone portable obligatoire.\n\nEncadrant : Un moniteur diplômé profess
 ionnel.\n\n&nbsp\;\nCovid-19 :\nIl sera demandé aux participants d’êtr
 e vigilants quant à leur état de santé.\nAucune inscription en cours ne
  sera acceptée si un participant est porteur des symptômes suivants : t
 empérature de + de 37\,8°\, toux\, perte de goût ou d’odorat\, douleu
 rs de gorge\, douleurs musculaires\, douleurs abdominales\, diarrhées\, c
 ourbatures inhabituelles\, fatigue inhabituelle\, perte d’envie de mange
 r ou boire\, manque de souffle en parlant ou à faible l’effort ou conta
 ct avec une personne atteinte du Covid19.\nToute personne symptomatique se
 ra interdite d’accès aux cours. En cas de symptôme suspectant un Covid
 -19 pendant un cours\, le participant sera mis à l’écart.\n\nRespect d
 es gestes barrières.
ATTACH;FMTTYPE=image/jpeg:https://www.ridin-family.com/wp-content/uploads/
 2020/06/Photo-2171-scaled.jpg
CATEGORIES:École de Castanet-Tolosan,Écoles
LOCATION:Castanet Parc des Fontanelles\, Parc des Fontanelles\, Castanet\, 
 France
GEO:43.522234;1.508458
X-APPLE-STRUCTURED-LOCATION;VALUE=URI;X-ADDRESS=Parc des Fontanelles\, Cast
 anet\, France;X-APPLE-RADIUS=100;X-TITLE=Castanet Parc des Fontanelles:geo
 :43.522234,1.508458
END:VEVENT
BEGIN:VTIMEZONE
TZID:Europe/Paris
X-LIC-LOCATION:Europe/Paris
BEGIN:STANDARD
DTSTART:20211031T020000
TZOFFSETFROM:+0200
TZOFFSETTO:+0100
TZNAME:CET
END:STANDARD
END:VTIMEZONE
END:VCALENDAR