BEGIN:VCALENDAR
VERSION:2.0
PRODID:-//wp-events-plugin.com//7.2.3.1//EN
TZID:Europe/Paris
X-WR-TIMEZONE:Europe/Paris
BEGIN:VEVENT
UID:3868@ridin-family.com
DTSTART;TZID=Europe/Paris:20211120T160000
DTEND;TZID=Europe/Paris:20211120T173000
DTSTAMP:20210924T145309Z
URL:https://www.ridin-family.com/evenements/cours-dirter1-colomiers-samedi
 -2021-2022-2021-11-20/
SUMMARY:Cours Dirter Colomiers Samedi 2021/2022
DESCRIPTION:Cours Dirter : \n\n\n\n\nPublic : Cours spécifique à une prat
 ique Freestyle en BMX ou en VTT\, destiné aux enfants à partir de 7 ans 
 ayant le niveau Biclou (sélection des élèves par le moniteur).\n\n\nObj
 ectif : Sauter une bosse et maîtriser son vélo.\n\n\n\n\n\nProgramme typ
 e :\n\n 	Échauffements et exercices dans le bikepark\n\n 	Découverte des
  notions essentielles de la pratique du BMX/Dirt (utiliser les lignes de b
 osses pour prendre de la vitesse\, réaliser des sauts et des figures pour
  les plus avancés)\n\n\nÉquipement nécessaire :\n\n 	BMX ou VTT adapté
  à la pratique avec embouts de guidon obligatoires\n 	Pédales en bon ét
 at\n 	Casque obligatoire (intégral conseillé)\n 	Tenue adaptée à la pr
 atique et aux conditions météo : Maillot à manches longues\, gants long
 s\, protections obligatoires (protège genoux\, protège tibias\, dorsale)
 \n 	Bouteilles d’eau / gourde / CamelBak\n\n&nbsp\;\n\nEncadrant : Un mo
 niteur diplômé professionnel.\n\n&nbsp\;\nCovid-19 :\nIl sera demandé a
 ux participants d’être vigilants quant à leur état de santé.\nAucune
  inscription en cours ne sera acceptée si un participant est porteur des 
 symptômes suivants : température de + de 37\,8°\, toux\, perte de goû
 t ou d’odorat\, douleurs de gorge\, douleurs musculaires\, douleurs abdo
 minales\, diarrhées\, courbatures inhabituelles\, fatigue inhabituelle\, 
 perte d’envie de manger ou boire\, manque de souffle en parlant ou à fa
 ible l’effort ou contact avec une personne atteinte du Covid19.\nToute p
 ersonne symptomatique sera interdite d’accès aux cours. En cas de sympt
 ôme suspectant un Covid-19 pendant un cours\, le participant sera mis à 
 l’écart.\n\nRespect des gestes barrières.
ATTACH;FMTTYPE=image/jpeg:https://www.ridin-family.com/wp-content/uploads/
 2021/06/Photo-BMXDirt-2-scaled.jpg
CATEGORIES:École de Colomiers,Écoles
LOCATION:Colomiers Bike Park\, Boulodrome Route de Pibrac\, Colomiers\, 317
 70\, France
GEO:43.612322;1.320059
X-APPLE-STRUCTURED-LOCATION;VALUE=URI;X-ADDRESS=Boulodrome Route de Pibrac\
 , Colomiers\, 31770\, France;X-APPLE-RADIUS=100;X-TITLE=Colomiers Bike Par
 k:geo:43.612322,1.320059
END:VEVENT
BEGIN:VTIMEZONE
TZID:Europe/Paris
X-LIC-LOCATION:Europe/Paris
BEGIN:STANDARD
DTSTART:20211031T020000
TZOFFSETFROM:+0200
TZOFFSETTO:+0100
TZNAME:CET
END:STANDARD
END:VTIMEZONE
END:VCALENDAR