BEGIN:VCALENDAR
VERSION:2.0
PRODID:-//wp-events-plugin.com//7.2.3.1//EN
TZID:Europe/Paris
X-WR-TIMEZONE:Europe/Paris
BEGIN:VEVENT
UID:2892@ridin-family.com
DTSTART;TZID=Europe/Paris:20220413T170000
DTEND;TZID=Europe/Paris:20220413T183000
DTSTAMP:20210906T132220Z
URL:https://www.ridin-family.com/evenements/cours-dirter3-lacroix-falgarde
 -mercredi-2021-2022-2022-04-13/
SUMMARY:Cours Dirter3 Lacroix-Falgarde Mercredi 2021/2022
DESCRIPTION:Cours Dirter3 : \n\n\n\n\nPublic : Cours spécifique à une pra
 tique Freestyle en BMX ou en VTT\, destiné aux enfants à partir de 12 an
 s ayant le niveau Dirter2 (sélection des élèves par le moniteur).\n\n\n
 Objectif : Passer des lignes techniques et des grosses bosses / faire des 
 Tricks.\n\n\n\n\n\nÉquipement nécessaire :\n\n 	BMX ou VTT adapté à la
  pratique avec embouts de guidon obligatoires\n 	Pédales en bon état\n 	
 Casque obligatoire (intégral conseillé)\n 	Tenue adaptée à la pratique
  et aux conditions météo : Maillot à manches longues\, gants longs\, pr
 otections obligatoires (protège genoux\, protège tibias\, dorsale)\n 	Bo
 uteilles d’eau / gourde / CamelBak\n\n&nbsp\;\n\nEncadrant : Un moniteur
  diplômé professionnel.\n\n&nbsp\;\nCovid-19 :\nIl sera demandé aux par
 ticipants d’être vigilants quant à leur état de santé.\nAucune inscr
 iption en cours ne sera acceptée si un participant est porteur des sympt
 ômes suivants : température de + de 37\,8°\, toux\, perte de goût ou 
 d’odorat\, douleurs de gorge\, douleurs musculaires\, douleurs abdominal
 es\, diarrhées\, courbatures inhabituelles\, fatigue inhabituelle\, perte
  d’envie de manger ou boire\, manque de souffle en parlant ou à faible 
 l’effort ou contact avec une personne atteinte du Covid19.\nToute person
 ne symptomatique sera interdite d’accès aux cours. En cas de symptôme 
 suspectant un Covid-19 pendant un cours\, le participant sera mis à l’
 écart.\n\nRespect des gestes barrières.
ATTACH;FMTTYPE=image/jpeg:https://www.ridin-family.com/wp-content/uploads/
 2021/06/Photo-BMXDirt-1-scaled.jpg
CATEGORIES:École de Lacroix-Falgarde,Écoles
LOCATION:Lacroix-Falgarde Bike Park\, Les Ramiers\, espace sportif\, Lacroi
 x-Falgarde\, 31120\, France
GEO:43.499398;1.40982
X-APPLE-STRUCTURED-LOCATION;VALUE=URI;X-ADDRESS=Les Ramiers\, espace sporti
 f\, Lacroix-Falgarde\, 31120\, France;X-APPLE-RADIUS=100;X-TITLE=Lacroix-F
 algarde Bike Park:geo:43.499398,1.40982
END:VEVENT
BEGIN:VTIMEZONE
TZID:Europe/Paris
X-LIC-LOCATION:Europe/Paris
BEGIN:DAYLIGHT
DTSTART:20220327T030000
TZOFFSETFROM:+0100
TZOFFSETTO:+0200
TZNAME:CEST
END:DAYLIGHT
END:VTIMEZONE
END:VCALENDAR