BEGIN:VCALENDAR
VERSION:2.0
PRODID:-//wp-events-plugin.com//7.2.3.1//EN
TZID:Europe/Paris
X-WR-TIMEZONE:Europe/Paris
BEGIN:VEVENT
UID:5294@ridin-family.com
DTSTART;TZID=Europe/Paris:20220219T160000
DTEND;TZID=Europe/Paris:20220219T170000
DTSTAMP:20210924T142900Z
URL:https://www.ridin-family.com/evenements/cours-new-rider-castanet-samed
 i-2021-2022-2022-02-19/
SUMMARY:Cours New Rider Castanet Samedi 2021/2022
DESCRIPTION:Cours New Rider : \n\n\n\n\nÀ Castanet-Tolosan le samedi de 16
 H00 à 17H00.\n\nPublic : Initiation à la maniabilité en VTT pour les d
 ébutants ayant pour objectif de s'inscrire en BICLOU ou en BIKER 1. \n\n\
 n\n\n\n\n\n\n\n\nObjectif : Initiation VTT pour tous.\n\n\n\n\n\nProgramme
  type :\n\n 	Mise en place et échauffements\n 	Exercices théoriques auto
 ur d'un thème ou Jeux de groupes\n 	Petite randonnée ponctuelle\n\nPrér
 equis :\n\n 	Savoir pédaler debout\n 	Etre autonome sur le VTT\n\n\nÉqui
 pement nécessaire:\n\n 	Vélo en bon état avec embouts de guidons (au mo
 ins un VTT 20 pouces avec un dérailleur arrière)\n 	Casque obligatoire\n
  	Tenue adaptée à la pratique et aux conditions météo : 3 couches\, ma
 illot à manches longues (orties\, ronces\, blessures possibles)\, gants l
 ongs\, cache-cou\, short interdit.\n 	Bouteilles d’eau / gourde / CamelB
 ak\n\nEncadrant : Un moniteur diplômé professionnel.\n\n\n&nbsp\;\nCovid
 -19 :\nIl sera demandé aux participants d’être vigilants quant à leur
  état de santé.\nAucune inscription en cours ne sera acceptée si un par
 ticipant est porteur des symptômes suivants : température de + de 37\,8
 °\, toux\, perte de goût ou d’odorat\, douleurs de gorge\, douleurs mu
 sculaires\, douleurs abdominales\, diarrhées\, courbatures inhabituelles\
 , fatigue inhabituelle\, perte d’envie de manger ou boire\, manque de so
 uffle en parlant ou à faible l’effort ou contact avec une personne atte
 inte du Covid19.\nToute personne symptomatique sera interdite d’accès a
 ux cours. En cas de symptôme suspectant un Covid-19 pendant un cours\, le
  participant sera mis à l’écart.\n\nRespect des gestes barrières.
ATTACH;FMTTYPE=image/jpeg:https://www.ridin-family.com/wp-content/uploads/
 2021/09/Photo-Biclous.jpg
CATEGORIES:École de Castanet-Tolosan,Écoles
LOCATION:Castanet Parc des Fontanelles\, Parc des Fontanelles\, Castanet\, 
 France
GEO:43.522234;1.508458
X-APPLE-STRUCTURED-LOCATION;VALUE=URI;X-ADDRESS=Parc des Fontanelles\, Cast
 anet\, France;X-APPLE-RADIUS=100;X-TITLE=Castanet Parc des Fontanelles:geo
 :43.522234,1.508458
END:VEVENT
BEGIN:VTIMEZONE
TZID:Europe/Paris
X-LIC-LOCATION:Europe/Paris
BEGIN:STANDARD
DTSTART:20211031T020000
TZOFFSETFROM:+0200
TZOFFSETTO:+0100
TZNAME:CET
END:STANDARD
END:VTIMEZONE
END:VCALENDAR