BEGIN:VCALENDAR
VERSION:2.0
PRODID:-//wp-events-plugin.com//7.2.3.1//EN
TZID:Europe/Paris
X-WR-TIMEZONE:Europe/Paris
BEGIN:VEVENT
UID:5609@ridin-family.com
DTSTART;TZID=Europe/Paris:20220323T143000
DTEND;TZID=Europe/Paris:20220323T160000
DTSTAMP:20220108T014806Z
URL:https://www.ridin-family.com/evenements/cours-trial1-labege-mercredi-2
 021-2022-2022-03-23/
SUMMARY:Cours Trial1 Labège Mercredi 2021/2022
DESCRIPTION:Cours Trial1 : Découverte et initiation à la pratique du VTT 
 Trial.\n\n\n\n\nPublic : Cours destiné aux enfants de 7 à 14 ans.\n\n\nO
 bjectif :\n• Découverte des différentes méthodes de franchissements d
 ’obstacles\,\n• Apprentissage de l’équilibre sous toutes ses formes
 \,\n• Découverte des règles\,\n• Franchissements de zones (parcours)
  type vélo trial.\n\n\n\n\n\n\nPrérequis : Savoir faire du vélo debout.
 \n\n&nbsp\;\n\n\n\n\nÉquipement nécessaire :\n\n 	VTT Trial (possibilit
 é de location)\n 	Casque obligatoire\n 	Tenue adaptée à la pratique : M
 aillot\, gants longs\, protections conseillées (protège genoux\, protèg
 e tibias\, dorsale)\n 	Bouteilles d’eau / gourde / CamelBak\n\n\nEncadra
 nt : Un moniteur diplômé professionnel.\n\n&nbsp\;\nCovid-19 :\nIl sera 
 demandé aux participants d’être vigilants quant à leur état de sant
 é.\nAucune inscription en cours ne sera acceptée si un participant est p
 orteur des symptômes suivants : température de + de 37\,8°\, toux\, pe
 rte de goût ou d’odorat\, douleurs de gorge\, douleurs musculaires\, do
 uleurs abdominales\, diarrhées\, courbatures inhabituelles\, fatigue inha
 bituelle\, perte d’envie de manger ou boire\, manque de souffle en parla
 nt ou à faible l’effort ou contact avec une personne atteinte du Covid1
 9.\nToute personne symptomatique sera interdite d’accès aux cours. En c
 as de symptôme suspectant un Covid-19 pendant un cours\, le participant s
 era mis à l’écart.\n\nRespect des gestes barrières.
ATTACH;FMTTYPE=image/jpeg:https://www.ridin-family.com/wp-content/uploads/
 2021/02/Photo-Trial-0548-1.jpg
CATEGORIES:École de Labège,Écoles
LOCATION:Labege BikePark Trial\, rue des troubadours\, Labege\, 31670\, Fra
 nce
GEO:43.528397;1.523052
X-APPLE-STRUCTURED-LOCATION;VALUE=URI;X-ADDRESS=rue des troubadours\, Labeg
 e\, 31670\, France;X-APPLE-RADIUS=100;X-TITLE=Labege BikePark Trial:geo:43
 .528397,1.523052
END:VEVENT
BEGIN:VTIMEZONE
TZID:Europe/Paris
X-LIC-LOCATION:Europe/Paris
BEGIN:STANDARD
DTSTART:20211031T020000
TZOFFSETFROM:+0200
TZOFFSETTO:+0100
TZNAME:CET
END:STANDARD
END:VTIMEZONE
END:VCALENDAR