BEGIN:VCALENDAR
VERSION:2.0
PRODID:-//wp-events-plugin.com//7.2.3.1//EN
TZID:Europe/Paris
X-WR-TIMEZONE:Europe/Paris
BEGIN:VEVENT
UID:8351@ridin-family.com
DTSTART;TZID=Europe/Paris;VALUE=DATE:20230325
DTEND;TZID=Europe/Paris;VALUE=DATE:20230327
DTSTAMP:20230111T082717Z
URL:https://www.ridin-family.com/evenements/dh-de-millau/
SUMMARY:DH de Millau
DESCRIPTION:Course régionale de DH
ATTACH;FMTTYPE=image/jpeg:https://www.ridin-family.com/wp-content/uploads/
 2023/01/Accous20Samedi-08516.jpg
CATEGORIES:Compétitions,Sorties club,VTT Enduro Régional
LOCATION:Millau\, Millau\, Millau\, France
GEO:44.100575;3.077801
X-APPLE-STRUCTURED-LOCATION;VALUE=URI;X-ADDRESS=Millau\, Millau\, France;X-
 APPLE-RADIUS=100;X-TITLE=Millau:geo:44.100575,3.077801
END:VEVENT
BEGIN:VTIMEZONE
TZID:Europe/Paris
X-LIC-LOCATION:Europe/Paris
BEGIN:STANDARD
DTSTART:20221030T020000
TZOFFSETFROM:+0200
TZOFFSETTO:+0100
TZNAME:CET
END:STANDARD
BEGIN:DAYLIGHT
DTSTART:20230326T030000
TZOFFSETFROM:+0100
TZOFFSETTO:+0200
TZNAME:CEST
END:DAYLIGHT
END:VTIMEZONE
END:VCALENDAR