BEGIN:VCALENDAR
VERSION:2.0
PRODID:-//wp-events-plugin.com//7.2.3.1//EN
TZID:Europe/Paris
X-WR-TIMEZONE:Europe/Paris
BEGIN:VEVENT
UID:10882@ridin-family.com
DTSTART;TZID=Europe/Paris:20241005T090000
DTEND;TZID=Europe/Paris:20241006T180000
DTSTAMP:20240207T152244Z
URL:https://www.ridin-family.com/evenements/enduro-nant-12-les-5-et-6-octo
 bre-2024-course-regionale/
SUMMARY:Enduro Nant (12) les 5 et 6 octobre 2024 / course régionale
DESCRIPTION:Contacter le club organisateur ou votre moniteur pour plus d'in
 fos.\n\nClub CSO Millau\n\n&nbsp\;
CATEGORIES:Compétitions,VTT Enduro Régional
END:VEVENT
BEGIN:VTIMEZONE
TZID:Europe/Paris
X-LIC-LOCATION:Europe/Paris
BEGIN:DAYLIGHT
DTSTART:20240331T030000
TZOFFSETFROM:+0100
TZOFFSETTO:+0200
TZNAME:CEST
END:DAYLIGHT
END:VTIMEZONE
END:VCALENDAR