BEGIN:VCALENDAR
VERSION:2.0
PRODID:-//wp-events-plugin.com//7.2.3.1//EN
TZID:Europe/Paris
X-WR-TIMEZONE:Europe/Paris
BEGIN:VEVENT
UID:14199@ridin-family.com
DTSTART;TZID=Europe/Paris:20260314T100000
DTEND;TZID=Europe/Paris:20260314T130000
DTSTAMP:20260306T181026Z
URL:https://www.ridin-family.com/evenements/event-partenaires-a-lacroix-fa
 lgarde-le-14-mars-2026/
SUMMARY:Event partenaires à Lacroix-Falgarde le 14 mars 2026
DESCRIPTION:On vous donne rendez-vous samedi 14 mars de 10h à 13h sur le 
 site de Lacroix-Falgarde pour un événement exceptionnel avec nos parten
 aires !\n\n&nbsp\;\n\n* José\, pour Serious Connection vous fera découvr
 ir ses 2 nouvelles gammes de vélos de la marque Crewkerz : "Destiny"\, un
  vélo atypique segmenté trail agressif et "Envy"\, un Dirt léger et rob
 uste. Des vélos issus de l'innovation et de l'expertise de sociétés fra
 nçaises ! \n\n* Paul\, pour BBike\, expert reconnu des suspensions\, met
 tra en avant tout son savoir-faire autour des fourches\, amortisseurs\, r
 églages\, optimisation… De quoi repartir avec des conseils pointus pour
  améliorer vos performances !\n\n* Jérôme\, pour JMS Sports vous fera d
 écouvrir les marques Monkey Sauce\, Lewis\, Number A et bien d’autres..
 . Une vraie immersion dans les coulisses de l’équipement rider !\n\n&nb
 sp\;\n\nAu-delà des spécialistes du VTT\, les mécènes et sponsors du c
 lub seront aussi présents :\n\n* Sylvain P. pour les centres auto Roady (
 Castanet-Tolosan et Montgiscard) pourra vous parler équipement d'attelage
  ou portage pour vos vélos et bien plus encore.\n\n* Sylvain G. représen
 tera la messagerie collaborative BlueMind. Un projet souverain\, ambitieux
 \, porté par des experts français du numérique !\n\n* Estelle\, conseil
 lère immobilier pour le réseau iad\, pourra vous parler estimation\, ven
 te\, achat et recommandation \;-)\n\n\nVenez nombreux rencontrer nos parte
 naires et partager un moment convivial autour d'un petit-déjeuner. 
ATTACH;FMTTYPE=image/jpeg:https://www.ridin-family.com/wp-content/uploads/
 2026/03/Capture-decran-2026-03-06-a-19.09.50.png
CATEGORIES:Évènement club
LOCATION:aux espaces verts du ramier à proximité du bikepark et des terra
 ins de football (par la rue de Montségur)\, aux espaces verts du ramier 
 à proximité du bikepark et des terrains de football (par la rue de Monts
 égur)\, lacroix-Falgarde\, 31120\, 
GEO:43.502942;1.405709
X-APPLE-STRUCTURED-LOCATION;VALUE=URI;X-ADDRESS=aux espaces verts du ramier
  à proximité du bikepark et des terrains de football (par la rue de Mont
 ségur)\, lacroix-Falgarde\, 31120\, ;X-APPLE-RADIUS=100;X-TITLE=aux espac
 es verts du ramier à proximité du bikepark et des terrains de football (
 par la rue de Montségur):geo:43.502942,1.405709
END:VEVENT
BEGIN:VTIMEZONE
TZID:Europe/Paris
X-LIC-LOCATION:Europe/Paris
BEGIN:STANDARD
DTSTART:20251026T020000
TZOFFSETFROM:+0200
TZOFFSETTO:+0100
TZNAME:CET
END:STANDARD
END:VTIMEZONE
END:VCALENDAR