BEGIN:VCALENDAR
VERSION:2.0
PRODID:-//wp-events-plugin.com//7.2.3.1//EN
TZID:Europe/Paris
X-WR-TIMEZONE:Europe/Paris
BEGIN:VEVENT
UID:5340@ridin-family.com
DTSTART;TZID=Europe/Paris:20211017T100000
DTEND;TZID=Europe/Paris:20211017T120000
DTSTAMP:20211011T075758Z
URL:https://www.ridin-family.com/evenements/festirando-club-sortie-famille
 -2-17-oct-2021/
SUMMARY:FestiRando Club Sortie Famille (2) 17 Oct 2021 (10/15km)
DESCRIPTION:Sortie Club Ridin'Family Famille\n\nDistance : 10/15 km - Déni
 velé : 150m\n\nDépart : Les Ramiers de Lacroix-Falgarde\n\nPublic : adh
 érents et leur famille\n\nCette sortie se terminera par une Auberge Espa
 gnole sur le Ramiers de Lacroix Falgarde dans le cadre de la Fête du club
  regroupant tous les sites Toulouse\, Colomiers\, Labège\, Castanet et La
 croix.\n\nLes boissons seront offertes par le club Ridin'Family.\n\n&nbsp\
 ;
ATTACH;FMTTYPE=image/jpeg:https://www.ridin-family.com/wp-content/uploads/
 2021/06/Photo-sortie-VTT-Canoe-130621-1-1-scaled.jpg
CATEGORIES:Sortie Famille,Sorties club
LOCATION:Lacroix-Falgarde Bike Park\, Les Ramiers\, espace sportif\, Lacroi
 x-Falgarde\, 31120\, France
GEO:43.499398;1.40982
X-APPLE-STRUCTURED-LOCATION;VALUE=URI;X-ADDRESS=Les Ramiers\, espace sporti
 f\, Lacroix-Falgarde\, 31120\, France;X-APPLE-RADIUS=100;X-TITLE=Lacroix-F
 algarde Bike Park:geo:43.499398,1.40982
END:VEVENT
BEGIN:VTIMEZONE
TZID:Europe/Paris
X-LIC-LOCATION:Europe/Paris
BEGIN:DAYLIGHT
DTSTART:20210328T030000
TZOFFSETFROM:+0100
TZOFFSETTO:+0200
TZNAME:CEST
END:DAYLIGHT
END:VTIMEZONE
END:VCALENDAR