BEGIN:VCALENDAR
VERSION:2.0
PRODID:-//wp-events-plugin.com//7.2.3.1//EN
TZID:Europe/Paris
X-WR-TIMEZONE:Europe/Paris
BEGIN:VEVENT
UID:5343@ridin-family.com
DTSTART;TZID=Europe/Paris:20211017T093000
DTEND;TZID=Europe/Paris:20211017T120000
DTSTAMP:20211014T151622Z
URL:https://www.ridin-family.com/evenements/festirando-club-sortie-loisir-
 3-17-oct-2021-25-30km/
SUMMARY:FestiRando Club Sortie Loisir (3) 17 Oct 2021 (25/30km)
DESCRIPTION:Sortie Club Ridin'Family Loisir\n\nDistance : 25/30 km - Déniv
 elé : 500/600m\n\nDépart : Les Ramiers de Lacroix-Falgarde\n\nPublic : a
 dhérents et leur famille\n\nCette sortie se terminera par une Auberge Esp
 agnole sur le Ramiers de Lacroix Falgarde dans le cadre de la Fête du Clu
 b regroupant tous les sites Toulouse\, Colomiers\, Labège\, Castanet et L
 acroix.\n\nLes boissons seront offertes par le club Ridin'Family.\n\n&nbsp
 \;
ATTACH;FMTTYPE=image/jpeg:https://www.ridin-family.com/wp-content/uploads/
 2021/05/IMG_9940.jpg
CATEGORIES:Sortie Loisir,Sorties club
LOCATION:Lacroix-Falgarde Bike Park\, Les Ramiers\, espace sportif\, Lacroi
 x-Falgarde\, 31120\, France
GEO:43.499398;1.40982
X-APPLE-STRUCTURED-LOCATION;VALUE=URI;X-ADDRESS=Les Ramiers\, espace sporti
 f\, Lacroix-Falgarde\, 31120\, France;X-APPLE-RADIUS=100;X-TITLE=Lacroix-F
 algarde Bike Park:geo:43.499398,1.40982
END:VEVENT
BEGIN:VTIMEZONE
TZID:Europe/Paris
X-LIC-LOCATION:Europe/Paris
BEGIN:DAYLIGHT
DTSTART:20210328T030000
TZOFFSETFROM:+0100
TZOFFSETTO:+0200
TZNAME:CEST
END:DAYLIGHT
END:VTIMEZONE
END:VCALENDAR