BEGIN:VCALENDAR
VERSION:2.0
PRODID:-//wp-events-plugin.com//7.2.3.1//EN
TZID:Europe/Paris
X-WR-TIMEZONE:Europe/Paris
BEGIN:VEVENT
UID:8612@ridin-family.com
DTSTART;TZID=Europe/Paris:20230909T100000
DTEND;TZID=Europe/Paris:20230909T180000
DTSTAMP:20230818T171657Z
URL:https://www.ridin-family.com/evenements/forum-des-associations-de-cast
 anet-tolosan/
SUMMARY:Forum des associations de Castanet-Tolosan
DESCRIPTION:Venez nous rencontrer le samedi 9 septembre de 10H00 à 18H00 a
 u Parc des Fontanelles à Castanet-Tolosan.\n\nNous serons présents pour 
 vous renseigner sur nos pratiques et répondre à toutes vos questions.
ATTACH;FMTTYPE=image/jpeg:https://www.ridin-family.com/wp-content/uploads/
 2019/05/Logo-commune-CASTANET.png
CATEGORIES:Évènement club
END:VEVENT
BEGIN:VTIMEZONE
TZID:Europe/Paris
X-LIC-LOCATION:Europe/Paris
BEGIN:DAYLIGHT
DTSTART:20230326T030000
TZOFFSETFROM:+0100
TZOFFSETTO:+0200
TZNAME:CEST
END:DAYLIGHT
END:VTIMEZONE
END:VCALENDAR