BEGIN:VCALENDAR
VERSION:2.0
PRODID:-//wp-events-plugin.com//7.2.3.1//EN
TZID:Europe/Paris
X-WR-TIMEZONE:Europe/Paris
BEGIN:VEVENT
UID:8610@ridin-family.com
DTSTART;TZID=Europe/Paris:20230909T140000
DTEND;TZID=Europe/Paris:20230909T180000
DTSTAMP:20230818T174405Z
URL:https://www.ridin-family.com/evenements/forum-des-associations-de-lacr
 oix-falgarde-2/
SUMMARY:Forum des associations de Lacroix-Falgarde
DESCRIPTION:Venez nous rencontrer le samedi 9 septembre de 14H00 à 18H00 
 à Lacroix-Falgarde\, sous la halle du Ramier.\n\nNous serons présents po
 ur vous renseigner sur nos pratiques et répondre à toutes vos questions.
 \n\n&nbsp\;
ATTACH;FMTTYPE=image/jpeg:https://www.ridin-family.com/wp-content/uploads/
 2023/08/Forum-Lacroix.jpg
CATEGORIES:Évènement club
END:VEVENT
BEGIN:VTIMEZONE
TZID:Europe/Paris
X-LIC-LOCATION:Europe/Paris
BEGIN:DAYLIGHT
DTSTART:20230326T030000
TZOFFSETFROM:+0100
TZOFFSETTO:+0200
TZNAME:CEST
END:DAYLIGHT
END:VTIMEZONE
END:VCALENDAR