BEGIN:VCALENDAR
VERSION:2.0
PRODID:-//wp-events-plugin.com//7.2.3.1//EN
TZID:Europe/Paris
X-WR-TIMEZONE:Europe/Paris
BEGIN:VEVENT
UID:2117@ridin-family.com
DTSTART;TZID=Europe/Paris:20200905T140000
DTEND;TZID=Europe/Paris:20200905T180000
DTSTAMP:20200903T143151Z
URL:https://www.ridin-family.com/evenements/forum-des-associations-lacroix
 -falgarde-5-septembre-2020/
SUMMARY:Forum des Associations Lacroix Falgarde 5 Septembre 2020
DESCRIPTION:Venez à notre rencontre pour prendre toutes les informations r
 elatives à Ridin'Family club école vélo spécialisé dans les pratiques
  du VTT et du BMX :\n\n 	VTT ENDURO\n 	VTT XC/DH\n 	VTT TRIAL\n 	VTT STREE
 T\n 	VTT DIRT\n 	BMX DIRT\n 	BMX FREESTYLE\n 	BMX PARK (prochainement)\n\n
 sur 4 sites écoles :\n\n 	Lacroix Falgarde : VTT XC/ENDURO + DIRT VTT/BMX
 \n 	Colomiers : VTT XC/ENDURO + DIRT VTT/BMX\n 	Labège : VTT TRIAL\n 	Cas
 tanet Tolosan : VTT XC/ENDURO + VTT STREET\n\n2 sites Académies :\n\n 	La
 croix Falgarde : Ridin'Academy Enduro\n 	Labége : Ridin'Academy Trial\n\n
 et plusieurs Type de Sorties :\n\n 	Famille\n 	Loisir\n 	Sportive\n 	Extr
 ême\n 	Enduro\n 	Féminine (en cours)\n\nOn vous attend nombreux.\n\n&nbs
 p\;
ATTACH;FMTTYPE=image/jpeg:https://www.ridin-family.com/wp-content/uploads/
 2020/09/790AF13F-7C77-46E3-90D1-01F669EA31B6_1_105_c.jpeg
CATEGORIES:Academy,Écoles,Sorties club,STAGES
LOCATION:Lacroix Falgarde Halle\, Espaces verts des Ramiers\, LACROIX FALGA
 RDE\, 31120\, France
GEO:43.506902;1.405091
X-APPLE-STRUCTURED-LOCATION;VALUE=URI;X-ADDRESS=Espaces verts des Ramiers\,
  LACROIX FALGARDE\, 31120\, France;X-APPLE-RADIUS=100;X-TITLE=Lacroix Falg
 arde Halle:geo:43.506902,1.405091
END:VEVENT
BEGIN:VTIMEZONE
TZID:Europe/Paris
X-LIC-LOCATION:Europe/Paris
BEGIN:DAYLIGHT
DTSTART:20200329T030000
TZOFFSETFROM:+0100
TZOFFSETTO:+0200
TZNAME:CEST
END:DAYLIGHT
END:VTIMEZONE
END:VCALENDAR