BEGIN:VCALENDAR
VERSION:2.0
PRODID:-//wp-events-plugin.com//7.2.3.1//EN
TZID:Europe/Paris
X-WR-TIMEZONE:Europe/Paris
BEGIN:VEVENT
UID:8332@ridin-family.com
DTSTART;TZID=Europe/Paris:20221217T143000
DTEND;TZID=Europe/Paris:20221217T173000
DTSTAMP:20221202T111457Z
URL:https://www.ridin-family.com/evenements/jam-trial-a-labege-le-17-decem
 bre-2022/
SUMMARY:Jam Trial à Labège le 17 décembre 2022
DESCRIPTION:Samedi 17 décembre\, de 14H30 à 17H30\, les trialistes font l
 eur "jam" (rassemblement) !\n\n\n\n5 zones tous niveaux seront tracées\, 
 avec auto-arbitrage\, pour qu'ils puissent s'initier ou se perfectionner 
 à la compétition.\n\n\nN'hésitez pas à faire un tour au club pour déc
 ouvrir ou redécouvrir cette belle pratique qu'est le VTT Trial !\n\nRDV R
 ue des Troubadours (au fond de la rue) à Labège.\n\n\nParticipation grat
 uite\, ouverte aux clubs de VTT Trial d'Occitanie.\n\nRidin'Family fournir
 a les boissons mais chacun pourra prévoir un goûter à partager.
ATTACH;FMTTYPE=image/jpeg:https://www.ridin-family.com/wp-content/uploads/
 2022/11/TrialJamNoel-scaled.jpg
CATEGORIES:Compétitions,École de Labège,Évènement club
LOCATION:Labege BikePark Trial\, rue des troubadours\, Labege\, 31670\, Fra
 nce
GEO:43.528397;1.523052
X-APPLE-STRUCTURED-LOCATION;VALUE=URI;X-ADDRESS=rue des troubadours\, Labeg
 e\, 31670\, France;X-APPLE-RADIUS=100;X-TITLE=Labege BikePark Trial:geo:43
 .528397,1.523052
END:VEVENT
BEGIN:VTIMEZONE
TZID:Europe/Paris
X-LIC-LOCATION:Europe/Paris
BEGIN:STANDARD
DTSTART:20221030T020000
TZOFFSETFROM:+0200
TZOFFSETTO:+0100
TZNAME:CET
END:STANDARD
END:VTIMEZONE
END:VCALENDAR