BEGIN:VCALENDAR
VERSION:2.0
PRODID:-//wp-events-plugin.com//7.2.3.1//EN
TZID:Europe/Paris
X-WR-TIMEZONE:Europe/Paris
BEGIN:VEVENT
UID:10811@ridin-family.com
DTSTART;TZID=Europe/Paris:20231021T123000
DTEND;TZID=Europe/Paris:20231021T180000
DTSTAMP:20231213T074617Z
URL:https://www.ridin-family.com/evenements/jam-trial-a-labege-le-21-octob
 re-2023/
SUMMARY:Jam Trial à Labège le 21 octobre 2023
DESCRIPTION:Samedi 21 octobre\, à partir de 12H30\, les trialistes du club
  de Labège font leur "jam" !\n\n\n\nDes zones seront tracées pour qu'ils
  puissent s'initier ou se perfectionner à la compétition.\n\n\nN'hésite
 z pas à faire un tour au club pour découvrir ou redécouvrir cette belle
  pratique qu'est le VTT Trial !\n\nRDV Rue des Troubadours (au fond de la 
 rue) à Labège.\n\n\nParticipants : les élèves des cours de Trial de Ri
 din'Family.\n\n\nAuberge espagnole Prévue. Pour savoir comment répartir 
 les victuailles\, contactez Marie-Laure \;-)\n\n
ATTACH;FMTTYPE=image/jpeg:https://www.ridin-family.com/wp-content/uploads/
 2022/05/DSC_8945-Baptiste-scaled.jpg
CATEGORIES:Compétitions,École de Labège,Évènement club
LOCATION:Labege BikePark Trial\, rue des troubadours\, Labege\, 31670\, Fra
 nce
GEO:43.528397;1.523052
X-APPLE-STRUCTURED-LOCATION;VALUE=URI;X-ADDRESS=rue des troubadours\, Labeg
 e\, 31670\, France;X-APPLE-RADIUS=100;X-TITLE=Labege BikePark Trial:geo:43
 .528397,1.523052
END:VEVENT
BEGIN:VTIMEZONE
TZID:Europe/Paris
X-LIC-LOCATION:Europe/Paris
BEGIN:DAYLIGHT
DTSTART:20230326T030000
TZOFFSETFROM:+0100
TZOFFSETTO:+0200
TZNAME:CEST
END:DAYLIGHT
END:VTIMEZONE
END:VCALENDAR