BEGIN:VCALENDAR
VERSION:2.0
PRODID:-//wp-events-plugin.com//7.2.3.1//EN
TZID:Europe/Paris
X-WR-TIMEZONE:Europe/Paris
BEGIN:VEVENT
UID:8328@ridin-family.com
DTSTART;TZID=Europe/Paris:20221022T143000
DTEND;TZID=Europe/Paris:20221022T170000
DTSTAMP:20221027T114916Z
URL:https://www.ridin-family.com/evenements/jam-trial-a-labege-le-22-octob
 re-2022/
SUMMARY:Jam Trial à Labège le 22 octobre 2022
DESCRIPTION:Ce samedi 22 octobre\, de 14H30 à 17H00\, les trialistes du cl
 ub de Labège font leur "jam" (rassemblement) !\n\n\n\nDes zones seront tr
 acées pour qu'ils puissent s'initier ou se perfectionner à la compétiti
 on.\n\n\nN'hésitez pas à faire un tour au club pour découvrir ou redéc
 ouvrir cette belle pratique qu'est le VTT Trial !\n\nRDV Rue des Troubadou
 rs (au fond de la rue) à Labège.\n\n\nParticipants : les élèves des co
 urs de Trial de Ridin'Family.\n\n\nGoûter en mode auberge espagnole appor
 té par les élèves et boissons offertes par le club.\n\n&nbsp\;
ATTACH;FMTTYPE=image/jpeg:https://www.ridin-family.com/wp-content/uploads/
 2022/05/DSC_8945-Baptiste-scaled.jpg
CATEGORIES:Compétitions,École de Labège,Évènement club
LOCATION:Labege BikePark Trial\, rue des troubadours\, Labege\, 31670\, Fra
 nce
GEO:43.528397;1.523052
X-APPLE-STRUCTURED-LOCATION;VALUE=URI;X-ADDRESS=rue des troubadours\, Labeg
 e\, 31670\, France;X-APPLE-RADIUS=100;X-TITLE=Labege BikePark Trial:geo:43
 .528397,1.523052
END:VEVENT
BEGIN:VTIMEZONE
TZID:Europe/Paris
X-LIC-LOCATION:Europe/Paris
BEGIN:DAYLIGHT
DTSTART:20220327T030000
TZOFFSETFROM:+0100
TZOFFSETTO:+0200
TZNAME:CEST
END:DAYLIGHT
END:VTIMEZONE
END:VCALENDAR