BEGIN:VCALENDAR
VERSION:2.0
PRODID:-//wp-events-plugin.com//7.2.3.1//EN
TZID:Europe/Paris
X-WR-TIMEZONE:Europe/Paris
BEGIN:VEVENT
UID:5355@ridin-family.com
DTSTART;TZID=Europe/Paris:20211023T194500
DTEND;TZID=Europe/Paris:20211023T233000
DTSTAMP:20211022T070838Z
URL:https://www.ridin-family.com/evenements/le-revdautan/
SUMMARY:Le Rêv'D'Autan
DESCRIPTION:L’association Revel Sprinter Club organise la « Rêv’d’A
 utan » \; une randonnée nocturne VTT et pédestre avec un départ libre 
 entre 20h et 21h au départ de la halle au Beffroi.\n\nPlusieurs possibili
 tés sont au programme :\n\n 	une randonnée VTT ludique avec deux circuit
 s proposés :\n\n 	le premier fait 18 kilomètres avec 300 mètres de dén
 ivelé positif \;\n 	le second s’étend sur 35 kilomètres avec 800 mèt
 res de dénivelé positif \;\n\n\n\n\n 	une randonnée pédestre de 12 kil
 omètres avec 300 mètres de dénivelé positif.\n\nLes parcours seront ba
 lisés. Le gilet fluo est conseillé et la lumière est obligatoire pour l
 a sécurité de chacun. Un ravitaillement sera proposé sur le parcours et
  des saucisses grillées et du vin chaud seront servis à l’arrivée sou
 s la halle au Beffroi.\n\nConvivialité et bonne humeur sont les mots d’
 ordre de cette manifestation.\n\nInscription sur place\n\n\n\nUn pass sani
 taire ou test PCR négatif devra être présenté pour participer à la so
 rtie.\n\nPort du masque obligatoire durant les arrêts
ATTACH;FMTTYPE=image/jpeg:https://www.ridin-family.com/wp-content/uploads/
 2021/10/247042081_1565167897155693_9199903497514192172_n.jpg
CATEGORIES:Sortie Sportive,Sorties club
LOCATION:Revel Halle du Béfroi\, Halle du Befroi\, Revel\, 31250\, France
GEO:43.458611;2.004573
X-APPLE-STRUCTURED-LOCATION;VALUE=URI;X-ADDRESS=Halle du Befroi\, Revel\, 3
 1250\, France;X-APPLE-RADIUS=100;X-TITLE=Revel Halle du Béfroi:geo:43.458
 611,2.004573
END:VEVENT
BEGIN:VTIMEZONE
TZID:Europe/Paris
X-LIC-LOCATION:Europe/Paris
BEGIN:DAYLIGHT
DTSTART:20210328T030000
TZOFFSETFROM:+0100
TZOFFSETTO:+0200
TZNAME:CEST
END:DAYLIGHT
END:VTIMEZONE
END:VCALENDAR