BEGIN:VCALENDAR
VERSION:2.0
PRODID:-//wp-events-plugin.com//7.2.3.1//EN
TZID:Europe/Paris
X-WR-TIMEZONE:Europe/Paris
BEGIN:VEVENT
UID:8336@ridin-family.com
DTSTART;TZID=Europe/Paris:20221204T143000
DTEND;TZID=Europe/Paris:20221204T170000
DTSTAMP:20221203T175836Z
URL:https://www.ridin-family.com/evenements/randocoteaux/
SUMMARY:Randocoteaux
DESCRIPTION:Rendez-vous au pigeonnier de la Comtesse à Ramonville à 14H30
  pour une petite rando du dimanche tranquillou...
CATEGORIES:Sortie Loisir
END:VEVENT
BEGIN:VTIMEZONE
TZID:Europe/Paris
X-LIC-LOCATION:Europe/Paris
BEGIN:STANDARD
DTSTART:20221030T020000
TZOFFSETFROM:+0200
TZOFFSETTO:+0100
TZNAME:CET
END:STANDARD
END:VTIMEZONE
END:VCALENDAR