BEGIN:VCALENDAR
VERSION:2.0
PRODID:-//wp-events-plugin.com//7.2.3.1//EN
TZID:Europe/Paris
X-WR-TIMEZONE:Europe/Paris
BEGIN:VEVENT
UID:8326@ridin-family.com
DTSTART;TZID=Europe/Paris:20221009T150000
DTEND;TZID=Europe/Paris:20221009T170000
DTSTAMP:20221008T131757Z
URL:https://www.ridin-family.com/evenements/randonnee-sur-les-coteaux/
SUMMARY:Randonnée sur les coteaux
DESCRIPTION:
CATEGORIES:Sortie Loisir
LOCATION:cimetière Ramonville Saint Agne\, Parking cimetière du Pigeonnie
 r\, RAMONVILLE ST AGNE\, FRANCE\, 31520\, France
GEO:43.532149;1.470824
X-APPLE-STRUCTURED-LOCATION;VALUE=URI;X-ADDRESS=Parking cimetière du Pigeo
 nnier\, RAMONVILLE ST AGNE\, FRANCE\, 31520\, France;X-APPLE-RADIUS=100;X-
 TITLE=cimetière Ramonville Saint Agne:geo:43.532149,1.470824
END:VEVENT
BEGIN:VTIMEZONE
TZID:Europe/Paris
X-LIC-LOCATION:Europe/Paris
BEGIN:DAYLIGHT
DTSTART:20220327T030000
TZOFFSETFROM:+0100
TZOFFSETTO:+0200
TZNAME:CEST
END:DAYLIGHT
END:VTIMEZONE
END:VCALENDAR