BEGIN:VCALENDAR
VERSION:2.0
PRODID:-//wp-events-plugin.com//7.2.3.1//EN
TZID:Europe/Paris
X-WR-TIMEZONE:Europe/Paris
BEGIN:VEVENT
UID:14147@ridin-family.com
DTSTART;TZID=Europe/Paris:20251018T180000
DTEND;TZID=Europe/Paris:20251018T200000
DTSTAMP:20251014T085207Z
URL:https://www.ridin-family.com/evenements/ridin-family-apero-ride-samedi
 -18-octobre-2025/
SUMMARY:RIDIN FAMILY "Apéro Ride" Samedi 18 octobre 2025
DESCRIPTION:🏁 Apéro-Ride – Samedi 18 octobre à Labège 🍻🔥\nLa
  saison continue… et on vous propose un moment 100% ride &amp\; chill 
 avec toute la Ridin Family 🤘\n\n👉 Les cours sont maintenus jusqu
 ’à 18h\, puis place à un goûter / apéro / dîner en mode auberge 
 espagnole :\n🍽️ Chacun apporte un plat\, une boisson à partager \
 n🌭 La Ridin Family régale avec les saucisses et le pain\n🎥 Et po
 ur bien finir la soirée : projection du Red Bull Rampage sur grand écr
 an ! 😍\n\n📍 Où ? Labège\n📅 Quand ? Samedi 18 octobre – d
 ès 18h\n🎬 Au programme : ride\, apéro\, bonne humeur et du gros spe
 ctacle !\n\n🔥 Apéro-Ride\, c’est l’esprit Ridin Family : du fun
 \, du partage\, et du ride !\n\n👉 Si tu souhaites venir\, merci de t
 ’inscrire en ligne \n\n#wearefamily #weareridinfamily #VTT #ENDURO #BMX
  #GRAVEL #rideandchill #redbullrampage #aperoride #ridinfamily
ATTACH;FMTTYPE=image/jpeg:https://www.ridin-family.com/wp-content/uploads/
 2025/10/Unknown.jpeg
CATEGORIES:Sorties club
LOCATION:RDV au terrain de Trial du Bouysset au fond de la rue des Troubado
 urs\, rue des Troubadours\, Labège\, France
GEO:43.530015;1.523052
X-APPLE-STRUCTURED-LOCATION;VALUE=URI;X-ADDRESS=rue des Troubadours\, Labè
 ge\, France;X-APPLE-RADIUS=100;X-TITLE=RDV au terrain de Trial du Bouysset
  au fond de la rue des Troubadours:geo:43.530015,1.523052
END:VEVENT
BEGIN:VTIMEZONE
TZID:Europe/Paris
X-LIC-LOCATION:Europe/Paris
BEGIN:DAYLIGHT
DTSTART:20250330T030000
TZOFFSETFROM:+0100
TZOFFSETTO:+0200
TZNAME:CEST
END:DAYLIGHT
END:VTIMEZONE
END:VCALENDAR