BEGIN:VCALENDAR
VERSION:2.0
PRODID:-//wp-events-plugin.com//7.2.3.1//EN
TZID:Europe/Paris
X-WR-TIMEZONE:Europe/Paris
BEGIN:VEVENT
UID:13968@ridin-family.com
DTSTART;TZID=Europe/Paris:20250615T090000
DTEND;TZID=Europe/Paris:20250615T180000
DTSTAMP:20250609T072212Z
URL:https://www.ridin-family.com/evenements/rjv-val-louron-65-15-juin-2025
 /
SUMMARY:RJV Val-Louron (65) 15 juin 2025
DESCRIPTION:COMPÉTITION RENCONTRE DES JEUNES VÉTÉTISTES\n\nContacter le 
 club organisateur ou votre moniteur pour plus d'infos.\n\n!!! ATTENTION IN
 SCRIPTION EN LIGNE UNIQUEMENT POUR LES PILOTES DU CLUB RIDIN'FAMILY !!!\n\
 nMontant de l'inscription Licenciés U7-U13 : 10€ et U13-U15 : 15€.\n\
 nNon licenciés  : Prenez en plus le PASS\n\n 	Pass Accueil jeune -17 ans
  valable 1 mois : 20€.\n 	Pass Découverte 17 ans et + valable 1 mois : 
 25€.\n\nEngagements Ridin'Family avant le : 11/06 12H00.\n\nN° d'épreu
 ve : C5131161012 (U7-U13) et C5131161023 (U15-U17)\n\n\n\n\nOrganisateur :
  LUCHON LOURON CYCLISME\n\n\n\n\n
ATTACH;FMTTYPE=image/jpeg:https://www.ridin-family.com/wp-content/uploads/
 2025/06/Capture-decran-RJV-Val-Louron.png
CATEGORIES:Compétitions,TRJV
END:VEVENT
BEGIN:VTIMEZONE
TZID:Europe/Paris
X-LIC-LOCATION:Europe/Paris
BEGIN:DAYLIGHT
DTSTART:20250330T030000
TZOFFSETFROM:+0100
TZOFFSETTO:+0200
TZNAME:CEST
END:DAYLIGHT
END:VTIMEZONE
END:VCALENDAR