BEGIN:VCALENDAR
VERSION:2.0
PRODID:-//wp-events-plugin.com//7.2.3.1//EN
TZID:Europe/Paris
X-WR-TIMEZONE:Europe/Paris
BEGIN:VEVENT
UID:10856@ridin-family.com
DTSTART;TZID=Europe/Paris:20240413T090000
DTEND;TZID=Europe/Paris:20240414T180000
DTSTAMP:20240410T174001Z
URL:https://www.ridin-family.com/evenements/rjv-xc-trial-lieu-inconnu-34-l
 e-14-avril-2024-course-regionale/
SUMMARY:RJV des Ruffes XC + Trial dans l'hérault (34) les 13 et 14 avril 2
 024
DESCRIPTION:RENCONTRE DES JEUNES VÉTÉTISTES\n\nContacter le club organisa
 teur ou votre moniteur pour plus d'infos (club Ruf'n Bike).\n\n!!! ATTENTI
 ON INSCRIPTION EN LIGNE UNIQUEMENT POUR LES PILOTES DU CLUB RIDIN'FAMILY !
 !!\n\nEngagements Ridin'Family avant le 10 avril 2024 par CB uniquement.\n
 \nMontant de l'inscription : 15€.\nN° d'épreuve : C5134033001\nVTT - C
 ross country\nSaison 2024\nType de compétition : Régional\nOrganisateur 
 : Ruf'n Bike\nDurée : 2 jours\n190 participants maximum\n\nhttps://www.fa
 cebook.com/profile.php?id=100093249086526\n\n\n
ATTACH;FMTTYPE=image/jpeg:https://www.ridin-family.com/wp-content/uploads/
 2024/02/Affiche-RJV-XCO-Ruf-N-Bike-13_14.04.2024.png
CATEGORIES:Compétitions,TRJV
LOCATION:Canyon du diable\, Canyon du Diable\, Saint Jean de la Blaquière\
 , 34700\, France
X-APPLE-STRUCTURED-LOCATION;VALUE=URI;X-ADDRESS=Canyon du Diable\, Saint Je
 an de la Blaquière\, 34700\, France;X-APPLE-RADIUS=100;X-TITLE=Canyon du 
 diable:geo:0,0
END:VEVENT
BEGIN:VTIMEZONE
TZID:Europe/Paris
X-LIC-LOCATION:Europe/Paris
BEGIN:DAYLIGHT
DTSTART:20240331T030000
TZOFFSETFROM:+0100
TZOFFSETTO:+0200
TZNAME:CEST
END:DAYLIGHT
END:VTIMEZONE
END:VCALENDAR