BEGIN:VCALENDAR
VERSION:2.0
PRODID:-//wp-events-plugin.com//7.2.3.1//EN
TZID:Europe/Paris
X-WR-TIMEZONE:Europe/Paris
BEGIN:VEVENT
UID:5770@ridin-family.com
DTSTART;TZID=Europe/Paris:20220319T150000
DTEND;TZID=Europe/Paris:20220319T180000
DTSTAMP:20220318T211050Z
URL:https://www.ridin-family.com/evenements/session-pumptrack/
SUMMARY:SESSION PUMPTRACK
DESCRIPTION:
ATTACH;FMTTYPE=image/jpeg:https://www.ridin-family.com/wp-content/uploads/
 2022/03/2021-11-06.jpg
CATEGORIES:Sortie Loisir
LOCATION:Grenade pumptrack skatepark\, 71 Rue Castelbajac\, 31330 Grenade\,
  GRENADE\, 31330\, France
GEO:43.773046;1.29533
X-APPLE-STRUCTURED-LOCATION;VALUE=URI;X-ADDRESS=71 Rue Castelbajac\, 31330 
 Grenade\, GRENADE\, 31330\, France;X-APPLE-RADIUS=100;X-TITLE=Grenade pump
 track skatepark:geo:43.773046,1.29533
END:VEVENT
BEGIN:VTIMEZONE
TZID:Europe/Paris
X-LIC-LOCATION:Europe/Paris
BEGIN:STANDARD
DTSTART:20211031T020000
TZOFFSETFROM:+0200
TZOFFSETTO:+0100
TZNAME:CET
END:STANDARD
END:VTIMEZONE
END:VCALENDAR