BEGIN:VCALENDAR
VERSION:2.0
PRODID:-//wp-events-plugin.com//7.2.3.1//EN
TZID:Europe/Paris
X-WR-TIMEZONE:Europe/Paris
BEGIN:VEVENT
UID:14197@ridin-family.com
DTSTART;TZID=Europe/Paris:20260308T091500
DTEND;TZID=Europe/Paris:20260308T131500
DTSTAMP:20260307T094017Z
URL:https://www.ridin-family.com/evenements/sortie-a-buzet-mezens/
SUMMARY:Sortie VTT sportive à Buzet le 8 mars 2026
DESCRIPTION:Sortie sportive à la forêt de Buzet/Mézens\, typée plutôt 
 descente sur des sentiers plutôt naturels avec quelques éléments shapé
 s. Niveau : à l'aise sur pistes bleues et capable de descendre des pistes
  rouges. En fonction du groupe\, on pourra s'arrêter sur les obstacles po
 ur pratiquer\, ou refaire plusieurs fois une même descente à la fin.\n\n
 RDV au début du pont sur le Tarn à Buzet-sur-Tarn à 9h20 pour un dépar
 t à 9h30.\n\nUn groupe Telegram sera créé pour la sortie.\n\nÀ dimanch
 e !
ATTACH;FMTTYPE=image/jpeg:https://www.ridin-family.com/wp-content/uploads/
 2025/01/TEAM-5.jpg
CATEGORIES:Sortie Sportive,Sorties club
LOCATION:BUZET\, Pont de Buzet sur tarn\, Buzet\, 31660\, France
GEO:43.780847;1.63479
X-APPLE-STRUCTURED-LOCATION;VALUE=URI;X-ADDRESS=Pont de Buzet sur tarn\, Bu
 zet\, 31660\, France;X-APPLE-RADIUS=100;X-TITLE=BUZET:geo:43.780847,1.6347
 9
END:VEVENT
BEGIN:VTIMEZONE
TZID:Europe/Paris
X-LIC-LOCATION:Europe/Paris
BEGIN:STANDARD
DTSTART:20251026T020000
TZOFFSETFROM:+0200
TZOFFSETTO:+0100
TZNAME:CET
END:STANDARD
END:VTIMEZONE
END:VCALENDAR