BEGIN:VCALENDAR
VERSION:2.0
PRODID:-//wp-events-plugin.com//7.2.3.1//EN
TZID:Europe/Paris
X-WR-TIMEZONE:Europe/Paris
BEGIN:VEVENT
UID:8340@ridin-family.com
DTSTART;TZID=Europe/Paris:20221230T090000
DTEND;TZID=Europe/Paris:20221230T120000
DTSTAMP:20221230T072033Z
URL:https://www.ridin-family.com/evenements/sortie-avant-le-nouvel-an/
SUMMARY:Sortie avant le nouvel an
DESCRIPTION:Pour finir agréablement l'année\, je vous propose une sortie 
 "tranquille" 28 km 200 m D+\n\nLacroix Falgarde - Clermont le Fort\, Espan
 es\, Aureville\, Rebigue\, Vigoulet Auzil\, Lacroix Falgarde\n\nRendez-vou
 s sous la halle au ramier de Lacroix Falgarde
ATTACH;FMTTYPE=image/jpeg:https://www.ridin-family.com/wp-content/uploads/
 2022/12/Screenshot_20221226-1547252.jpg
CATEGORIES:Sortie Loisir
LOCATION:Lacroix-Falgarde Bike Park\, Les Ramiers\, espace sportif\, Lacroi
 x-Falgarde\, 31120\, France
GEO:43.499398;1.40982
X-APPLE-STRUCTURED-LOCATION;VALUE=URI;X-ADDRESS=Les Ramiers\, espace sporti
 f\, Lacroix-Falgarde\, 31120\, France;X-APPLE-RADIUS=100;X-TITLE=Lacroix-F
 algarde Bike Park:geo:43.499398,1.40982
END:VEVENT
BEGIN:VTIMEZONE
TZID:Europe/Paris
X-LIC-LOCATION:Europe/Paris
BEGIN:STANDARD
DTSTART:20221030T020000
TZOFFSETFROM:+0200
TZOFFSETTO:+0100
TZNAME:CET
END:STANDARD
END:VTIMEZONE
END:VCALENDAR