BEGIN:VCALENDAR
VERSION:2.0
PRODID:-//wp-events-plugin.com//7.2.3.1//EN
TZID:Europe/Paris
X-WR-TIMEZONE:Europe/Paris
BEGIN:VEVENT
UID:5570@ridin-family.com
DTSTART;TZID=Europe/Paris:20211120T143000
DTEND;TZID=Europe/Paris:20211120T163000
DTSTAMP:20211119T180927Z
URL:https://www.ridin-family.com/evenements/sortie-coteaux-2/
SUMMARY:Sortie coteaux
DESCRIPTION:Sortie loisir sur les coteaux\, avec les ados
CATEGORIES:Sortie Loisir
LOCATION:Ramonville Pigeonnier de la Comtesse\, 2 allée de la Comtesse\, R
 amonville St-Agne\, 31520\, France
GEO:43.53371;1.470571
X-APPLE-STRUCTURED-LOCATION;VALUE=URI;X-ADDRESS=2 allée de la Comtesse\, R
 amonville St-Agne\, 31520\, France;X-APPLE-RADIUS=100;X-TITLE=Ramonville P
 igeonnier de la Comtesse:geo:43.53371,1.470571
END:VEVENT
BEGIN:VTIMEZONE
TZID:Europe/Paris
X-LIC-LOCATION:Europe/Paris
BEGIN:STANDARD
DTSTART:20211031T020000
TZOFFSETFROM:+0200
TZOFFSETTO:+0100
TZNAME:CET
END:STANDARD
END:VTIMEZONE
END:VCALENDAR