BEGIN:VCALENDAR
VERSION:2.0
PRODID:-//wp-events-plugin.com//7.2.3.1//EN
TZID:Europe/Paris
X-WR-TIMEZONE:Europe/Paris
BEGIN:VEVENT
UID:8426@ridin-family.com
DTSTART;TZID=Europe/Paris:20230416T150000
DTEND;TZID=Europe/Paris:20230416T180000
DTSTAMP:20230416T095740Z
URL:https://www.ridin-family.com/evenements/sortie-coteaux-3/
SUMMARY:Sortie Coteaux Ramonville Pigeonnier
DESCRIPTION:Sortie organisée par Emeline et Yves.\n\nEnviron 30 kms
ATTACH;FMTTYPE=image/jpeg:https://www.ridin-family.com/wp-content/uploads/
 2022/10/Image-Sortie.png
CATEGORIES:Sortie Loisir,Sorties club
LOCATION:Ramonville Pigeonnier de la Comtesse\, 2 allée de la Comtesse\, R
 amonville St-Agne\, 31520\, France
GEO:43.53371;1.470571
X-APPLE-STRUCTURED-LOCATION;VALUE=URI;X-ADDRESS=2 allée de la Comtesse\, R
 amonville St-Agne\, 31520\, France;X-APPLE-RADIUS=100;X-TITLE=Ramonville P
 igeonnier de la Comtesse:geo:43.53371,1.470571
END:VEVENT
BEGIN:VTIMEZONE
TZID:Europe/Paris
X-LIC-LOCATION:Europe/Paris
BEGIN:DAYLIGHT
DTSTART:20230326T030000
TZOFFSETFROM:+0100
TZOFFSETTO:+0200
TZNAME:CEST
END:DAYLIGHT
END:VTIMEZONE
END:VCALENDAR