BEGIN:VCALENDAR
VERSION:2.0
PRODID:-//wp-events-plugin.com//7.2.3.1//EN
TZID:Europe/Paris
X-WR-TIMEZONE:Europe/Paris
BEGIN:VEVENT
UID:8427@ridin-family.com
DTSTART;TZID=Europe/Paris:20230423T103000
DTEND;TZID=Europe/Paris:20230423T163000
DTSTAMP:20230421T183526Z
URL:https://www.ridin-family.com/evenements/sortie-dans-montagne-noire/
SUMMARY:Sortie dans la montagne noire
DESCRIPTION:Sortie sympa dans la montagne noire 40 km 750d+\nRendez vous di
 manche 23 avril à 10h30 sur la parking du bassin du Lampy neuf (Comptez 1
 h30 de toulouse)\nParcours : Bassin du Lampy - Barrage de la Galaube - Lac
  de Laprade et retour\n\nNous passerons à la prise d'Alzeau :\nhttp://www
 .tourisme-montagnenoire.com/decouvrir/sources-du-canal-du-midi/la-prise-da
 lzeau\n\nPique nique à mi parcours\, prenez de quoi faire \;-)
ATTACH;FMTTYPE=image/jpeg:https://www.ridin-family.com/wp-content/uploads/
 2023/04/vtt_PasDesBetes.png
CATEGORIES:Sortie Sportive
LOCATION:bassin du lampy\, bassin du lampy neuf\, Saissac\, 11310\, Occitan
 ie\, France
GEO:43.401155;2.172657
X-APPLE-STRUCTURED-LOCATION;VALUE=URI;X-ADDRESS=bassin du lampy neuf\, Sais
 sac\, 11310\, Occitanie\, France;X-APPLE-RADIUS=100;X-TITLE=bassin du lamp
 y:geo:43.401155,2.172657
END:VEVENT
BEGIN:VTIMEZONE
TZID:Europe/Paris
X-LIC-LOCATION:Europe/Paris
BEGIN:DAYLIGHT
DTSTART:20230326T030000
TZOFFSETFROM:+0100
TZOFFSETTO:+0200
TZNAME:CEST
END:DAYLIGHT
END:VTIMEZONE
END:VCALENDAR