BEGIN:VCALENDAR
VERSION:2.0
PRODID:-//wp-events-plugin.com//7.2.3.1//EN
TZID:Europe/Paris
X-WR-TIMEZONE:Europe/Paris
BEGIN:VEVENT
UID:2508@ridin-family.com
DTSTART;TZID=Europe/Paris:20210403T140000
DTEND;TZID=Europe/Paris:20210403T163000
DTSTAMP:20210403T065937Z
URL:https://www.ridin-family.com/evenements/sortie-ludique-eaunes/
SUMMARY:Sortie ludique Eaunes
DESCRIPTION:Sortie ludique d’une vingtaine de km\, singles et petits saut
 s dans la forêt d’Eaunes
CATEGORIES:Sorties club
END:VEVENT
BEGIN:VTIMEZONE
TZID:Europe/Paris
X-LIC-LOCATION:Europe/Paris
BEGIN:DAYLIGHT
DTSTART:20210328T030000
TZOFFSETFROM:+0100
TZOFFSETTO:+0200
TZNAME:CEST
END:DAYLIGHT
END:VTIMEZONE
END:VCALENDAR