BEGIN:VCALENDAR
VERSION:2.0
PRODID:-//wp-events-plugin.com//7.2.3.1//EN
TZID:Europe/Paris
X-WR-TIMEZONE:Europe/Paris
BEGIN:VEVENT
UID:10893@ridin-family.com
DTSTART;TZID=Europe/Paris:20240221T160000
DTEND;TZID=Europe/Paris:20240221T190000
DTSTAMP:20240221T091051Z
URL:https://www.ridin-family.com/evenements/sortie-sportive-a-eaunes/
SUMMARY:Sortie sportive à Eaunes
DESCRIPTION:Je propose une sortie sportive dans le bois d'Eaunes\, pour y r
 ouler les singles et profiter du beau temps.\n\nLes horaires sont adaptabl
 es en fonction des dispos.
ATTACH;FMTTYPE=image/jpeg:https://www.ridin-family.com/wp-content/uploads/
 2024/02/th.jpg
CATEGORIES:Sortie Sportive
LOCATION:Abbaye de la Clarté-Dieu\, 785 Avenue de la Mairie\, EAUNES\, 316
 00\, Occitanie\, France
X-APPLE-STRUCTURED-LOCATION;VALUE=URI;X-ADDRESS=785 Avenue de la Mairie\, E
 AUNES\, 31600\, Occitanie\, France;X-APPLE-RADIUS=100;X-TITLE=Abbaye de la
  Clarté-Dieu:geo:0,0
END:VEVENT
BEGIN:VTIMEZONE
TZID:Europe/Paris
X-LIC-LOCATION:Europe/Paris
BEGIN:STANDARD
DTSTART:20231029T020000
TZOFFSETFROM:+0200
TZOFFSETTO:+0100
TZNAME:CET
END:STANDARD
END:VTIMEZONE
END:VCALENDAR