BEGIN:VCALENDAR
VERSION:2.0
PRODID:-//wp-events-plugin.com//7.2.3.1//EN
TZID:Europe/Paris
X-WR-TIMEZONE:Europe/Paris
BEGIN:VEVENT
UID:5571@ridin-family.com
DTSTART;TZID=Europe/Paris:20211120T133000
DTEND;TZID=Europe/Paris:20211120T173000
DTSTAMP:20211119T184623Z
URL:https://www.ridin-family.com/evenements/sortie-vtt-lacroix-falgarde/
SUMMARY:Sortie VTT Lacroix Falgarde
DESCRIPTION:Départ du bikepark\, attention le point sur le plan ne semble 
 pas correspondre exactement.\n\nContact: 06 81 23 08 80.
CATEGORIES:Sortie Sportive
LOCATION:Lacroix-Falgarde Bike Park\, Les Ramiers\, espace sportif\, Lacroi
 x-Falgarde\, 31120\, France
GEO:43.499398;1.40982
X-APPLE-STRUCTURED-LOCATION;VALUE=URI;X-ADDRESS=Les Ramiers\, espace sporti
 f\, Lacroix-Falgarde\, 31120\, France;X-APPLE-RADIUS=100;X-TITLE=Lacroix-F
 algarde Bike Park:geo:43.499398,1.40982
END:VEVENT
BEGIN:VTIMEZONE
TZID:Europe/Paris
X-LIC-LOCATION:Europe/Paris
BEGIN:STANDARD
DTSTART:20211031T020000
TZOFFSETFROM:+0200
TZOFFSETTO:+0100
TZNAME:CET
END:STANDARD
END:VTIMEZONE
END:VCALENDAR