BEGIN:VCALENDAR
VERSION:2.0
PRODID:-//wp-events-plugin.com//7.2.3.1//EN
TZID:Europe/Paris
X-WR-TIMEZONE:Europe/Paris
BEGIN:VEVENT
UID:7582@ridin-family.com
DTSTART;TZID=Europe/Paris:20220813T093000
DTEND;TZID=Europe/Paris:20220813T173000
DTSTAMP:20220725T080605Z
URL:https://www.ridin-family.com/evenements/stage-bikepark-1jr-ados-adulte
 s-st-lary-soulan-65170/
SUMMARY:Stage BIKEPARK 1jr Ados/Adultes St-Lary-Soulan (65170)
DESCRIPTION:Stage technique au Bikepark de Saint-Lary-Soulan.\n\n\nPublic :
  Ados + 15 ans (Biker 3) &amp\; adultes.\n\nNiveau : Niveau intermédiaire
 /perfectionnement.\nAu programme : Exercices techniques (franchissement d'
 obstacles\, virages\, sauts\, pilotage à vue\,...)\, apprentissage du pil
 otage\, du repérage des trajectoires.\n\nMatériel nécessaire:\n\n 	VTT 
 en bon état\n 	Casque\, intégral conseillé\n 	Genouillères et gants\n 
 	La tige de selle télescopique n’est pas obligatoire\n 	Bouteille d'eau
  / gourde\n 	Repas du midi\n\n&nbsp\;\n\nTarif adhérents sans transport :
  70€ (encadrement + journée bikepark avec téléphérique).\n\nTarif no
 n adhérents sans transport : 80€ (encadrement + journée bikepark avec 
 téléphérique).\n\nRDV sur place.\n\nEncadrant : David (06 73 52 76 82).
 \n\nStage limité à 10 participants.\n\n*** Attention : Les stages ne ser
 ont pas remboursés si ils sont annulés moins de 72H avant le stage (sauf
  sur présentation certificat médical).\n\nRidin'Family se réserve le dr
 oit d'annuler un stage faute d'inscrits.
ATTACH;FMTTYPE=image/jpeg:https://www.ridin-family.com/wp-content/uploads/
 2019/08/vtt-enduro.jpg
CATEGORIES:ADULTES ENDURO,ENFANTS ENDURO,STAGES,STAGES ADULTES,STAGES
 ENFANTS
LOCATION:Zone Saint-Lary-Soulan\, Télé-Cabine de Vignec\, Saint-Lary-Soul
 an\, France
GEO:42.816556;0.320290
X-APPLE-STRUCTURED-LOCATION;VALUE=URI;X-ADDRESS=Télé-Cabine de Vignec\, S
 aint-Lary-Soulan\, France;X-APPLE-RADIUS=100;X-TITLE=Zone Saint-Lary-Soula
 n:geo:42.816556,0.320290
END:VEVENT
BEGIN:VTIMEZONE
TZID:Europe/Paris
X-LIC-LOCATION:Europe/Paris
BEGIN:DAYLIGHT
DTSTART:20220327T030000
TZOFFSETFROM:+0100
TZOFFSETTO:+0200
TZNAME:CEST
END:DAYLIGHT
END:VTIMEZONE
END:VCALENDAR