BEGIN:VCALENDAR
VERSION:2.0
PRODID:-//wp-events-plugin.com//7.2.3.1//EN
TZID:Europe/Paris
X-WR-TIMEZONE:Europe/Paris
BEGIN:VEVENT
UID:5766@ridin-family.com
DTSTART;TZID=Europe/Paris:20220511T180000
DTEND;TZID=Europe/Paris:20220511T193000
DTSTAMP:20220221T151536Z
URL:https://www.ridin-family.com/evenements/stage-decouverte-vtt-100-fille
 s-11-05-a-labege/
SUMMARY:Stage Découverte VTT "100% FILLES" 11/05 à Labège
DESCRIPTION:Stage gratuit d'initiation au VTT.\n\nPublic : Les adultes et l
 es jeunes filles à partir de 12 ans (accompagnées de leur maman).\n\nDur
 ée du stage : 1H30.\n\nCréneau horaire : Mercredi 11 mai 2022 de 18H00 
 à 19H30.\n\nLieu : Labège\, bikepark rue des Troubadours.\n\nProgramme :
  Positionnement et sécurisation sur le vélo\, exercices de maniabilité 
 et mini randonnée.\n\nCe stage sera dispensé par un moniteur diplômé. 
 Il a vocation à faciliter l'accès des féminines à la pratique du VTT\,
  à enlever les freins liés au manque de maîtrise des fondamentaux à v
 élo\, à permettre aux féminines d'envisager la pratique du VTT comme un
 e pratique sportive récurrente et ludique.\n\nÉquipement à prévoir : V
 TT\, casque\, gourde\, vêtements adaptés à la pratique et le smile \;-)
 \n\nPlaces limitées à 10 participantes.
ATTACH;FMTTYPE=image/jpeg:https://www.ridin-family.com/wp-content/uploads/
 2021/04/Photo-stage-filles-lacroix-avril21-2-scaled.jpg
CATEGORIES:ADULTES FILLES,ENFANTS VTT,STAGES,STAGES ADULTES,STAGES ENFANTS
LOCATION:Labege BikePark Trial\, rue des troubadours\, Labege\, 31670\, Fra
 nce
GEO:43.528397;1.523052
X-APPLE-STRUCTURED-LOCATION;VALUE=URI;X-ADDRESS=rue des troubadours\, Labeg
 e\, 31670\, France;X-APPLE-RADIUS=100;X-TITLE=Labege BikePark Trial:geo:43
 .528397,1.523052
END:VEVENT
BEGIN:VTIMEZONE
TZID:Europe/Paris
X-LIC-LOCATION:Europe/Paris
BEGIN:DAYLIGHT
DTSTART:20220327T030000
TZOFFSETFROM:+0100
TZOFFSETTO:+0200
TZNAME:CEST
END:DAYLIGHT
END:VTIMEZONE
END:VCALENDAR