BEGIN:VCALENDAR
VERSION:2.0
PRODID:-//wp-events-plugin.com//7.2.3.1//EN
TZID:Europe/Paris
X-WR-TIMEZONE:Europe/Paris
BEGIN:VEVENT
UID:10800@ridin-family.com
DTSTART;TZID=Europe/Paris:20231021T103000
DTEND;TZID=Europe/Paris:20231021T120000
DTSTAMP:20231010T122755Z
URL:https://www.ridin-family.com/evenements/stage-decouverte-vtt-100-fille
 s-a-lacroix-falgarde/
SUMMARY:Stage Découverte VTT "100% FILLES" à Lacroix-Falgarde
DESCRIPTION:Stage gratuit d'initiation au VTT.\n\nPublic : Les adultes et l
 es jeunes filles à partir de 12 ans (accompagnées de leur maman).\n\nDur
 ée du stage : 1H30.\n\nCréneau horaire : Samedi 21 octobre 2023 de 10H30
  à 12H00.\n\nLieu : RDV au Parking des espaces verts du ramier de Lacroix
 -Falgarde (suivre complexe sportif\, parking au bout de la rue de Montség
 ur 31120 Lacroix-Falgarde).\n\nProgramme : Positionnement et sécurisation
  sur le vélo\, exercices de maniabilité et mini randonnée.\n\nCe stage 
 sera dispensé par Fran\, monitrice Ridin'Family (06 13 86 45 00). Il a vo
 cation à faciliter l'accès des féminines à la pratique du VTT\, à enl
 ever les freins liés au manque de maîtrise des fondamentaux à vélo\, 
 à permettre aux féminines d'envisager la pratique du VTT comme une prati
 que sportive récurrente et ludique.\n\nÉquipement à prévoir : VTT\, ca
 sque\, gourde\, vêtements adaptés à la pratique et le smile \;-)\n\nPla
 ces limitées à 10 participantes sur inscription (gratuite).
ATTACH;FMTTYPE=image/jpeg:https://www.ridin-family.com/wp-content/uploads/
 2023/03/PHOTO-STAGE-FILLES-OK.jpg
CATEGORIES:ADULTES FILLES,ENFANTS VTT,STAGES,STAGES ADULTES,STAGES ENFANTS
LOCATION:Lacroix-Falgarde Bike Park\, Les Ramiers\, espace sportif\, Lacroi
 x-Falgarde\, 31120\, France
GEO:43.499398;1.40982
X-APPLE-STRUCTURED-LOCATION;VALUE=URI;X-ADDRESS=Les Ramiers\, espace sporti
 f\, Lacroix-Falgarde\, 31120\, France;X-APPLE-RADIUS=100;X-TITLE=Lacroix-F
 algarde Bike Park:geo:43.499398,1.40982
END:VEVENT
BEGIN:VTIMEZONE
TZID:Europe/Paris
X-LIC-LOCATION:Europe/Paris
BEGIN:DAYLIGHT
DTSTART:20230326T030000
TZOFFSETFROM:+0100
TZOFFSETTO:+0200
TZNAME:CEST
END:DAYLIGHT
END:VTIMEZONE
END:VCALENDAR