BEGIN:VCALENDAR
VERSION:2.0
PRODID:-//wp-events-plugin.com//7.2.3.1//EN
TZID:Europe/Paris
X-WR-TIMEZONE:Europe/Paris
BEGIN:VEVENT
UID:5794@ridin-family.com
DTSTART;TZID=Europe/Paris:20220615T183000
DTEND;TZID=Europe/Paris:20220615T200000
DTSTAMP:20220530T112331Z
URL:https://www.ridin-family.com/evenements/stage-decouverte-vtt-100-fille
 s-le-15-06-a-colomiers/
SUMMARY:Stage Découverte VTT "100% FILLES" le 15/06 à Colomiers
DESCRIPTION:Stage gratuit d'initiation au VTT.\n\nPublic : Les adultes et l
 es jeunes filles à partir de 12 ans (accompagnées de leur maman).\n\nDur
 ée du stage : 1H30.\n\nCréneau horaire : Mercredi 15 juin 2022 de 18H30 
 à 20H00.\n\nLieu : RDV au Bikepark de Colomiers.\n\nProgramme : Positionn
 ement et sécurisation sur le vélo\, exercices de maniabilité et mini ra
 ndonnée.\n\nCe stage sera dispensé par un moniteur diplômé. Il a vocat
 ion à faciliter l'accès des féminines à la pratique du VTT\, à enleve
 r les freins liés au manque de maîtrise des fondamentaux à vélo\, à p
 ermettre aux féminines d'envisager la pratique du VTT comme une pratique 
 sportive récurrente et ludique.\n\nÉquipement à prévoir : VTT\, casque
 \, gourde\, vêtements adaptés à la pratique et le smile \;-)\n\nPlaces 
 limitées à 10 participantes.
ATTACH;FMTTYPE=image/jpeg:https://www.ridin-family.com/wp-content/uploads/
 2022/04/image-velo-fille.jpg
CATEGORIES:ADULTES FILLES,ENFANTS VTT,STAGES,STAGES ADULTES,STAGES ENFANTS
LOCATION:Colomiers Bike Park\, Boulodrome Route de Pibrac\, Colomiers\, 317
 70\, France
GEO:43.612322;1.320059
X-APPLE-STRUCTURED-LOCATION;VALUE=URI;X-ADDRESS=Boulodrome Route de Pibrac\
 , Colomiers\, 31770\, France;X-APPLE-RADIUS=100;X-TITLE=Colomiers Bike Par
 k:geo:43.612322,1.320059
END:VEVENT
BEGIN:VTIMEZONE
TZID:Europe/Paris
X-LIC-LOCATION:Europe/Paris
BEGIN:DAYLIGHT
DTSTART:20220327T030000
TZOFFSETFROM:+0100
TZOFFSETTO:+0200
TZNAME:CEST
END:DAYLIGHT
END:VTIMEZONE
END:VCALENDAR