BEGIN:VCALENDAR
VERSION:2.0
PRODID:-//wp-events-plugin.com//7.2.3.1//EN
TZID:Europe/Paris
X-WR-TIMEZONE:Europe/Paris
BEGIN:VEVENT
UID:5793@ridin-family.com
DTSTART;TZID=Europe/Paris:20220615T180000
DTEND;TZID=Europe/Paris:20220615T193000
DTSTAMP:20220530T081251Z
URL:https://www.ridin-family.com/evenements/stage-decouverte-vtt-100-fille
 s-le-15-06-a-st-lary/
SUMMARY:Stage Découverte VTT "100% FILLES" le 15/06 à St-Lary
DESCRIPTION:Stage gratuit d'initiation au VTT.\n\nPublic : Les adultes et l
 es jeunes filles à partir de 12 ans (accompagnées de leur maman).\n\nDur
 ée du stage : 1H30.\n\nCréneau horaire : Mercredi 15 juin 2022 de 18H00 
 à 19H30.\n\nLieu : Saint-Lary RDV au parking du télécabine de Vignec.\n
 \nProgramme : Positionnement et sécurisation sur le vélo\, exercices de 
 maniabilité et mini randonnée.\n\nCe stage sera dispensé par un moniteu
 r diplômé. Il a vocation à faciliter l'accès des féminines à la prat
 ique du VTT\, à enlever les freins liés au manque de maîtrise des fonda
 mentaux à vélo\, à permettre aux féminines d'envisager la pratique du 
 VTT comme une pratique sportive récurrente et ludique.\n\nÉquipement à 
 prévoir : VTT\, casque\, gourde\, vêtements adaptés à la pratique et l
 e smile \;-)\n\nPlaces limitées à 10 participantes.
ATTACH;FMTTYPE=image/jpeg:https://www.ridin-family.com/wp-content/uploads/
 2022/04/image-velo-fille.jpg
CATEGORIES:ADULTES FILLES,ENFANTS VTT,STAGES,STAGES ADULTES,STAGES ENFANTS
LOCATION:Zone Saint-Lary-Soulan\, Télé-Cabine de Vignec\, Saint-Lary-Soul
 an\, France
GEO:42.816556;0.320290
X-APPLE-STRUCTURED-LOCATION;VALUE=URI;X-ADDRESS=Télé-Cabine de Vignec\, S
 aint-Lary-Soulan\, France;X-APPLE-RADIUS=100;X-TITLE=Zone Saint-Lary-Soula
 n:geo:42.816556,0.320290
END:VEVENT
BEGIN:VTIMEZONE
TZID:Europe/Paris
X-LIC-LOCATION:Europe/Paris
BEGIN:DAYLIGHT
DTSTART:20220327T030000
TZOFFSETFROM:+0100
TZOFFSETTO:+0200
TZNAME:CEST
END:DAYLIGHT
END:VTIMEZONE
END:VCALENDAR