BEGIN:VCALENDAR
VERSION:2.0
PRODID:-//wp-events-plugin.com//7.2.3.1//EN
TZID:Europe/Paris
X-WR-TIMEZONE:Europe/Paris
BEGIN:VEVENT
UID:5809@ridin-family.com
DTSTART;TZID=Europe/Paris:20220730T093000
DTEND;TZID=Europe/Paris:20220730T173000
DTSTAMP:20220704T132851Z
URL:https://www.ridin-family.com/evenements/stage-enduro-1jr-ados-adultes-
 a-fabian-65170/
SUMMARY:Stage ENDURO 1jr Ados/Adultes à Fabian (65170)
DESCRIPTION:Stage ENDURO à Fabian.\n\n\nPublic : Ados + 15 ans (Biker 3) &
 amp\; adultes.\n\nNiveau : Niveau intermédiaire/perfectionnement.\nAu pro
 gramme : Exercices techniques (franchissement d'obstacles\, virages\, saut
 s\, pilotage à vue\,...)\, apprentissage du pilotage\, du repérage des t
 rajectoires.\nRemontées à la pédale.\n\nMatériel nécessaire:\n\n 	VTT
  en bon état\n 	Casque\, intégral conseillé\n 	Genouillères et gants\n
  	La tige de selle télescopique n’est pas obligatoire\n 	Bouteille d'ea
 u / gourde\n 	Repas du midi\n\n&nbsp\;\n\nTarif adhérent sans transport :
  50€ (encadrement\, remontées à la pédale).\n\nTarif non adhérent sa
 ns transport : 60€ (encadrement\, remontées à la pédale).\n\nRDV sur 
 place.\n\nEncadrant : Armand (06 12 30 05 29).\n\nStage limité à 10 part
 icipants.\n\n*** Attention : Les stages ne seront pas remboursés si ils s
 ont annulés moins de 72H avant le stage (sauf sur présentation certifica
 t médical).
ATTACH;FMTTYPE=image/jpeg:https://www.ridin-family.com/wp-content/uploads/
 2019/08/vtt-enduro.jpg
CATEGORIES:ADULTES ENDURO,ENFANTS ENDURO,STAGES,STAGES ADULTES,STAGES
 ENFANTS
LOCATION:Zone Saint-Lary-Soulan\, Télé-Cabine de Vignec\, Saint-Lary-Soul
 an\, France
GEO:42.816556;0.320290
X-APPLE-STRUCTURED-LOCATION;VALUE=URI;X-ADDRESS=Télé-Cabine de Vignec\, S
 aint-Lary-Soulan\, France;X-APPLE-RADIUS=100;X-TITLE=Zone Saint-Lary-Soula
 n:geo:42.816556,0.320290
END:VEVENT
BEGIN:VTIMEZONE
TZID:Europe/Paris
X-LIC-LOCATION:Europe/Paris
BEGIN:DAYLIGHT
DTSTART:20220327T030000
TZOFFSETFROM:+0100
TZOFFSETTO:+0200
TZNAME:CEST
END:DAYLIGHT
END:VTIMEZONE
END:VCALENDAR