BEGIN:VCALENDAR
VERSION:2.0
PRODID:-//wp-events-plugin.com//7.2.3.1//EN
TZID:Europe/Paris
X-WR-TIMEZONE:Europe/Paris
BEGIN:VEVENT
UID:5778@ridin-family.com
DTSTART;TZID=Europe/Paris:20220430T080000
DTEND;TZID=Europe/Paris:20220430T170000
DTSTAMP:20220404T100144Z
URL:https://www.ridin-family.com/evenements/stage-enduro-1jr-ados-adultes-
 a-labruguiere-81290-2/
SUMMARY:Stage ENDURO 1jr Ados/Adultes à Labruguière (81290)
DESCRIPTION:Stage ENDURO à Labruguière.\n\n\nPublic : Ados + 15 ans (Bike
 r 3) &amp\; adultes.\n\nNiveau : Niveau intermédiaire/perfectionnement.\n
 Au programme : Exercices techniques (franchissement d'obstacles\, virages\
 , sauts\, pilotage à vue\,...)\, apprentissage du pilotage\, du repérage
  des trajectoires.\nRemontées à la pédale.\n\n\nMatériel nécessaire:\
 n\n 	VTT en bon état\n 	Casque\, intégral conseillé\n 	Genouillères et
  gants\n 	La tige de selle télescopique n’est pas obligatoire\n 	Boutei
 lle d'eau / gourde\n 	Repas du midi\n\nEncadrant : Armand. Renseignements 
 : 06 12 30 05 29.\n\nStage limité à 12 participants : 8 places avec tran
 sport (prioritaire pour les mineurs\, RDV Intermarché Castanet-Tolosan à
  08H00) et 4 places si RDV sur place à 09H00.\n\nSignature obligatoire d'
 une décharge de responsabilité pour le transport des mineurs en cas de t
 ransport par le club.\n\nTarif inscription adhérent Ridin'Family : 65€ 
 avec transport\, 50€ sans transport.\n\nTarif inscription non adhérent 
 : 75€ avec transport (priorité aux adhérents)\, 60€ sans transport.\
 n\nRespecter les gestes barrières (masque avant et après le cours\, dist
 ances de sécurité\, matériel personnel).\n\n*** Attention : Les stages 
 ne seront pas remboursés si ils sont annulés moins de 72H avant le stage
  (sauf sur présentation certificat médical).
ATTACH;FMTTYPE=image/jpeg:https://www.ridin-family.com/wp-content/uploads/
 2022/04/PHOTO-STAGE-ENDURO-FEV22-SACHA-6.jpg
CATEGORIES:ADULTES ENDURO,ENFANTS ENDURO,STAGES,STAGES ADULTES,STAGES
 ENFANTS
END:VEVENT
BEGIN:VTIMEZONE
TZID:Europe/Paris
X-LIC-LOCATION:Europe/Paris
BEGIN:DAYLIGHT
DTSTART:20220327T030000
TZOFFSETFROM:+0100
TZOFFSETTO:+0200
TZNAME:CEST
END:DAYLIGHT
END:VTIMEZONE
END:VCALENDAR