BEGIN:VCALENDAR
VERSION:2.0
PRODID:-//wp-events-plugin.com//7.2.3.1//EN
TZID:Europe/Paris
X-WR-TIMEZONE:Europe/Paris
BEGIN:VEVENT
UID:13943@ridin-family.com
DTSTART;TZID=Europe/Paris:20250419T090000
DTEND;TZID=Europe/Paris:20250419T180000
DTSTAMP:20250319T094821Z
URL:https://www.ridin-family.com/evenements/stage-enduro-ados-adultes-lieu
 -a-definir/
SUMMARY:Stage Enduro Ados/Adultes à La Hourquette d'Ancizan (65)
DESCRIPTION:Stage ENDURO à la Hourquette d'Ancizan.\n\n\nPublic : Ados + 1
 5 ans (Biker 3) &amp\; adultes.\n\nNiveau : Niveau intermédiaire/perfecti
 onnement.\nAu programme : Exercices techniques (franchissement d'obstacles
 \, virages\, sauts\, pilotage à vue\,...)\, apprentissage du pilotage\, d
 u repérage des trajectoires.\n\nMatériel nécessaire:\n\n 	VTT en bon é
 tat\n 	Casque\, intégral conseillé\n 	Genouillères et gants\n 	La tige 
 de selle télescopique n’est pas obligatoire\n 	Bouteille d'eau / gourde
 \n 	Repas du midi à prévoir\n\nStage limité à 16 participants.\n\nRDV 
 à Lacroix-Falgarde pour le transport.\n\nEncadrants : Jordan (06 58 29 33
  56) et Eric .\n\nTarif adhérents : 75€ (encadrement + transport + Shut
 tle).\n\n*** Attention : Les stages ne seront pas remboursés si ils sont 
 annulés moins de 72H avant le stage (sauf sur présentation certificat m
 édical).\n\nRidin'Family se réserve le droit d'annuler un stage faute d'
 inscrits.
ATTACH;FMTTYPE=image/jpeg:https://www.ridin-family.com/wp-content/uploads/
 2018/12/PHOTO-STAGE-ENDURO-FEV22-SACHA-6.jpg
CATEGORIES:ADULTES ENDURO,ADULTES VTT,ENFANTS VTT,STAGES,STAGES
 ADULTES,STAGES ENFANTS
END:VEVENT
BEGIN:VTIMEZONE
TZID:Europe/Paris
X-LIC-LOCATION:Europe/Paris
BEGIN:DAYLIGHT
DTSTART:20250330T030000
TZOFFSETFROM:+0100
TZOFFSETTO:+0200
TZNAME:CEST
END:DAYLIGHT
END:VTIMEZONE
END:VCALENDAR