BEGIN:VCALENDAR
VERSION:2.0
PRODID:-//wp-events-plugin.com//7.2.3.1//EN
TZID:Europe/Paris
X-WR-TIMEZONE:Europe/Paris
BEGIN:VEVENT
UID:8399@ridin-family.com
DTSTART;TZID=Europe/Paris:20230507T090000
DTEND;TZID=Europe/Paris:20230507T170000
DTSTAMP:20230327T130545Z
URL:https://www.ridin-family.com/evenements/stage-enduro-haute-montagne-1j
 r-65/
SUMMARY:Stage ENDURO haute-montagne 1jr (65)
DESCRIPTION:Stage ENDURO haute-montagne le 7 mai.\n\n\nPublic : Adultes et 
 ados à partir de 16 ans (Biker 3). Bon niveau physique exigé.\n\nNiveau 
 : Niveau intermédiaire/perfectionnement.\nProgramme : Descente du Col de 
 Port vieux (Tunel d'Aragnouet-Bielsa). Journée Enduro Sportive avec porta
 ge de vélo + longue descente à la clé (2500 m de dénivelé négatif).\
 nPas de navettes.\n\nMatériel nécessaire:\n\n 	VTT en bon état\n 	Casqu
 e\, intégral conseillé\n 	Genouillères et gants\n 	La tige de selle té
 lescopique n’est pas obligatoire\n 	Bouteille d'eau / gourde\n 	Repas du
  midi à prévoir\n 	1L d'eau obligatoire\n\n&nbsp\;\n\nRDV à 09H00 au t
 élécabine de Saint-Lary-Soulan (Vignec).\n\nEncadrant : Armand (06 12 30
  05 29).\n\nStage limité à 8 participants.\n\nTarif adhérents : 60€ (
 encadrement)\n\nTarif non adhérents : 70€ (encadrement)\n\n*** Attentio
 n : Les stages ne seront pas remboursés si ils sont annulés moins de 72H
  avant le stage (sauf sur présentation d'un certificat médical). Ridin'F
 amily se réserve le droit d'annuler un stage faute d'inscrits.
ATTACH;FMTTYPE=image/jpeg:https://www.ridin-family.com/wp-content/uploads/
 2018/12/PHOTO-STAGE-ENDURO-FEV22-SACHA-6.jpg
CATEGORIES:ADULTES ENDURO,ENFANTS ENDURO,STAGES,STAGES ADULTES,STAGES
 ENFANTS
LOCATION:Zone Saint-Lary-Soulan\, Télé-Cabine de Vignec\, Saint-Lary-Soul
 an\, France
GEO:42.816556;0.320290
X-APPLE-STRUCTURED-LOCATION;VALUE=URI;X-ADDRESS=Télé-Cabine de Vignec\, S
 aint-Lary-Soulan\, France;X-APPLE-RADIUS=100;X-TITLE=Zone Saint-Lary-Soula
 n:geo:42.816556,0.320290
END:VEVENT
BEGIN:VTIMEZONE
TZID:Europe/Paris
X-LIC-LOCATION:Europe/Paris
BEGIN:DAYLIGHT
DTSTART:20230326T030000
TZOFFSETFROM:+0100
TZOFFSETTO:+0200
TZNAME:CEST
END:DAYLIGHT
END:VTIMEZONE
END:VCALENDAR