BEGIN:VCALENDAR
VERSION:2.0
PRODID:-//wp-events-plugin.com//7.2.3.1//EN
TZID:Europe/Paris
X-WR-TIMEZONE:Europe/Paris
BEGIN:VEVENT
UID:8348@ridin-family.com
DTSTART;TZID=Europe/Paris:20230228T090000
DTEND;TZID=Europe/Paris:20230228T170000
DTSTAMP:20230118T113721Z
URL:https://www.ridin-family.com/evenements/stage-rando-vtt-xc-enfants-a-l
 acroix-falgarde/
SUMMARY:Stage Rando VTT XC enfants à Lacroix-Falgarde
DESCRIPTION:Stage VTT maniabilité et randonnée à Lacroix-Falgarde.\n\n\n
 Public : Enfants à partir de 6 ans.\n\nNiveaux : débutants/intermédiair
 es.\n\nProgramme : Maniabilité Cross-Country\, randonnée et pique-nique 
 sur les coteaux.\n\nÉquipement nécessaire:\n\n 	Vélo en bon état avec 
 embouts de guidons\n 	Casque obligatoire\n 	Tenue adaptée à la pratique 
 et aux conditions météo\n 	Prendre de l’eau\, un repas froid pour le m
 idi et un goûter\n\n&nbsp\;\n\nStage limité à 10 participants.\n\nEncad
 rant : Jordan (06 58 29 33 56).\n\nLieu de RDV : Complexe sportif des Rami
 ers de Lacroix-Falgarde.\n\nTarif inscription : 40€/jour pour les adhér
 ents et 50€/jour pour les non adhérents Ridin'Family.\n\n*** Attention 
 : Les stages ne seront pas remboursés si ils sont annulés moins de 72H a
 vant le stage (sauf sur présentation certificat médical).
ATTACH;FMTTYPE=image/jpeg:https://www.ridin-family.com/wp-content/uploads/
 2022/07/Photo-2171-e1709925472146.jpg
CATEGORIES:ENFANTS VTT,STAGES,STAGES ENFANTS
LOCATION:Lacroix-Falgarde Bike Park\, Les Ramiers\, espace sportif\, Lacroi
 x-Falgarde\, 31120\, France
GEO:43.499398;1.40982
X-APPLE-STRUCTURED-LOCATION;VALUE=URI;X-ADDRESS=Les Ramiers\, espace sporti
 f\, Lacroix-Falgarde\, 31120\, France;X-APPLE-RADIUS=100;X-TITLE=Lacroix-F
 algarde Bike Park:geo:43.499398,1.40982
END:VEVENT
BEGIN:VTIMEZONE
TZID:Europe/Paris
X-LIC-LOCATION:Europe/Paris
BEGIN:STANDARD
DTSTART:20221030T020000
TZOFFSETFROM:+0200
TZOFFSETTO:+0100
TZNAME:CET
END:STANDARD
END:VTIMEZONE
END:VCALENDAR