BEGIN:VCALENDAR
VERSION:2.0
PRODID:-//wp-events-plugin.com//7.2.3.1//EN
TZID:Europe/Paris
X-WR-TIMEZONE:Europe/Paris
BEGIN:VEVENT
UID:5731@ridin-family.com
DTSTART;TZID=Europe/Paris:20220222T090000
DTEND;TZID=Europe/Paris:20220222T170000
DTSTAMP:20220119T134911Z
URL:https://www.ridin-family.com/evenements/stage-vtt-1jr-deb-interm-a-lac
 roix-falgarde-tous-niveaux/
SUMMARY:Stage VTT Maniabilité 1jr enfants tous niveaux à Lacroix-Falgarde
DESCRIPTION:Stage VTT maniabilité enfants ados à Lacroix-Falgarde.\n\n\nT
 ous niveaux. Enfants âgés de 6 à 13 ans.\n\nProgramme type :\n\n 	Mise 
 en place et échauffements\n 	Exercices théoriques autour d'un thème ou 
 Jeux de groupes\n 	Randonnée de mise en pratique des compétences et/ou B
 ikepark\n\nÉquipement nécessaire:\n\n 	Vélo en bon état avec embouts d
 e guidons\n 	Casque obligatoire\n 	Tenue adaptée à la pratique et aux co
 nditions météo\n 	Prendre de l’eau\, un repas froid pour le midi et un
  goûter\n\nEncadrant : Jordan\, moniteur Ridin'Family. Tel : 06 58 29 33 
 56.\n\nLieu de RDV : Complexe sportif des Ramiers de Lacroix-Falgarde.\n\n
 Tarif inscription : 40€ pour les adhérents et 50€ pour les non adhér
 ents Ridin'Family.\n\nRespecter les gestes barrières (masque avant et apr
 ès le cours\, distances de sécurité\, matériel personnel).\n\nStage li
 mité à 10 participants.
ATTACH;FMTTYPE=image/jpeg:https://www.ridin-family.com/wp-content/uploads/
 2020/07/Photo-2161-scaled.jpg
CATEGORIES:ENFANTS VTT,STAGES,STAGES ENFANTS
LOCATION:Lacroix-Falgarde Bike Park\, Les Ramiers\, espace sportif\, Lacroi
 x-Falgarde\, 31120\, France
GEO:43.499398;1.40982
X-APPLE-STRUCTURED-LOCATION;VALUE=URI;X-ADDRESS=Les Ramiers\, espace sporti
 f\, Lacroix-Falgarde\, 31120\, France;X-APPLE-RADIUS=100;X-TITLE=Lacroix-F
 algarde Bike Park:geo:43.499398,1.40982
END:VEVENT
BEGIN:VTIMEZONE
TZID:Europe/Paris
X-LIC-LOCATION:Europe/Paris
BEGIN:STANDARD
DTSTART:20211031T020000
TZOFFSETFROM:+0200
TZOFFSETTO:+0100
TZNAME:CET
END:STANDARD
END:VTIMEZONE
END:VCALENDAR