BEGIN:VCALENDAR
VERSION:2.0
PRODID:-//wp-events-plugin.com//7.2.3.1//EN
TZID:Europe/Paris
X-WR-TIMEZONE:Europe/Paris
BEGIN:VEVENT
UID:8304@ridin-family.com
DTSTART;TZID=Europe/Paris:20221024T090000
DTEND;TZID=Europe/Paris:20221025T170000
DTSTAMP:20221006T143331Z
URL:https://www.ridin-family.com/evenements/stage-vtt-enfants-7-12-ans-deb
 utants-intermediaires-a-lacroix-falgarde/
SUMMARY:Stage VTT 2 jrs pour les 7-12 ans à Lacroix-Falgarde
DESCRIPTION:Stage VTT maniabilité et rando à Lacroix-Falgarde.\n\n\nNivea
 ux : débutants/intermédiaires. Enfants et ados âgés de 7 à 12 ans.\n\
 nStage sur 2 jours les 24 et 25 Octobre.\n\nJour 1 : Maniabilité Cross-Co
 untry\, Trial et descente.\n\nJour 2 : Mise en pratique (randonnées et pi
 que-nique dans les coteaux).\n\nProgramme type :\n\n 	Mise en place et éc
 hauffements\n 	Exercices théoriques autour d'un thème ou Jeux de groupes
 \n 	Randonnée de mise en pratique des compétences et/ou Bikepark\n\nÉqu
 ipement nécessaire:\n\n 	Vélo en bon état avec embouts de guidons\n 	Ca
 sque obligatoire\n 	Tenue adaptée à la pratique et aux conditions mété
 o\n 	Prendre de l’eau\, un repas froid pour le midi et un goûter\n 	Hé
 bergement et restauration non pris en charge par le club le lundi soir.\n\
 nEncadrant : Jordan\, moniteur Ridin'Family. Tel : 06 58 29 33 56.\n\nLieu
  de RDV : Complexe sportif des Ramiers de Lacroix-Falgarde.\n\nStage limit
 é à 10 participants.\n\nTarif inscription : 40€/jour pour les adhéren
 ts et 50€/jour pour les non adhérents Ridin'Family.\n\n*** Attention : 
 Les stages ne seront pas remboursés si ils sont annulés moins de 72H ava
 nt le stage (sauf sur présentation certificat médical).
ATTACH;FMTTYPE=image/jpeg:https://www.ridin-family.com/wp-content/uploads/
 2022/07/Photo-2171-e1709925472146.jpg
CATEGORIES:ENFANTS VTT,STAGES,STAGES ENFANTS
LOCATION:Lacroix-Falgarde Bike Park\, Les Ramiers\, espace sportif\, Lacroi
 x-Falgarde\, 31120\, France
GEO:43.499398;1.40982
X-APPLE-STRUCTURED-LOCATION;VALUE=URI;X-ADDRESS=Les Ramiers\, espace sporti
 f\, Lacroix-Falgarde\, 31120\, France;X-APPLE-RADIUS=100;X-TITLE=Lacroix-F
 algarde Bike Park:geo:43.499398,1.40982
END:VEVENT
BEGIN:VTIMEZONE
TZID:Europe/Paris
X-LIC-LOCATION:Europe/Paris
BEGIN:DAYLIGHT
DTSTART:20220327T030000
TZOFFSETFROM:+0100
TZOFFSETTO:+0200
TZNAME:CEST
END:DAYLIGHT
END:VTIMEZONE
END:VCALENDAR